BEGIN:VCALENDAR
VERSION:2.0
PRODID:-//ChamberMaster//Event Calendar 2.0//EN
METHOD:PUBLISH
X-PUBLISHED-TTL:P3D
REFRESH-INTERVAL:P3D
CALSCALE:GREGORIAN
BEGIN:VEVENT
DTSTART:20190805T220000Z
DTEND:20190806T000000Z
X-MICROSOFT-CDO-ALLDAYEVENT:FALSE
SUMMARY:Schitt's Creek Trivia on the Patio
DESCRIPTION:Awww SCHITT - check out the trivia theme this week...\n\nJoin us on our outdoor patio on Monday\, July 22nd starting at 6pm for Schitt's Creek themed trivia. Twyla might just be your server if you get here early enough!\n\nDetails:\n\n\n\n- Trivia begins at 6:00pm but we encourage you to come early for dinner & drinks (a heavy salad might as well be a casserole)\n\n\n\n- Registration is first come\, first served and CLOSES after the first 35 teams have signed up (teams cannot exceed 6 people)\n\n\n\n- Trivia will be held outside on our patio. In the case of inclement weather\, trivia will move to our sister location Hurricane's at the Garden by North Station\n\n \n\nPlease note: RSVP does NOT guarantee a team or table. We recommend coming early as we cannot accommodate everyone.
X-ALT-DESC;FMTTYPE=text/html:<div>\n<h2>Awww SCHITT - check out the trivia theme this week...</h2>\n\n<p>Join us on our outdoor patio on Monday\, July 22nd starting at 6pm for&nbsp\;<strong>Schitt&#39\;s Creek</strong>&nbsp\;themed trivia. Twyla might just be your server if you get here early enough!</p>\n\n<p>Details:</p>\n</div>\n\n<div>\n<div>- Trivia begins at 6:00pm but we encourage you to come early for dinner &amp\; drinks (a heavy salad might as well be a casserole)</div>\n</div>\n\n<div>\n<div>- Registration is first come\, first served and CLOSES after the first 35 teams have signed up (teams cannot exceed 6 people)</div>\n</div>\n\n<div>\n<div>- Trivia will be held outside on our patio. In the case of inclement weather\, trivia will move to our sister location Hurricane&#39\;s at the Garden&nbsp\;by North Station</div>\n\n<div>&nbsp\;</div>\n\n<div><em>Please note: RSVP does NOT guarantee a team or table. We recommend coming early as we cannot accommodate everyone.</em></div>\n</div>\n
LOCATION:Glass House 450 Kendall Street Cambridge\, MA 02142
UID:e.2584.4584
SEQUENCE:3
DTSTAMP:20260424T144821Z
URL:https://business.cambridgechamber.org/events/details/schitt-s-creek-trivia-on-the-patio-4584
END:VEVENT

END:VCALENDAR
