BEGIN:VCALENDAR
VERSION:2.0
PRODID:-//ChamberMaster//Event Calendar 2.0//EN
METHOD:PUBLISH
X-PUBLISHED-TTL:P3D
REFRESH-INTERVAL:P3D
CALSCALE:GREGORIAN
BEGIN:VEVENT
DTSTART;VALUE=DATE:20200802
DTEND;VALUE=DATE:20200803
TRANSP:TRANSPARENT
X-MICROSOFT-CDO-ALLDAYEVENT:TRUE
SUMMARY:Run + Ride at CambridgeSide
DESCRIPTION:The 11th Annual Run + Ride is a kids only\, FREE duathlon with biking and running around CambridgeSide! Run + Ride at CambridgeSide is for children ages 5-13 years old\, with prizes\, race t-shirts\, giveaways\, entertainment and more. Races are not timed and the course is handicap accessible. All abilities are welcome. Registration will open in May.
X-ALT-DESC;FMTTYPE=text/html:<span style="font-size:22px\;"><span style="font-family:arial\,sans-serif\;">The 11<sup>th</sup> Annual Run + Ride is a kids only\, FREE duathlon with biking and running around CambridgeSide! Run + Ride at CambridgeSide is for children ages 5-13 years old\, with prizes\, race t-shirts\, giveaways\, entertainment and more. Races are not timed and the course is handicap accessible. All abilities are welcome. Registration will open in May.</span></span>
LOCATION:
UID:e.2584.5371
SEQUENCE:3
DTSTAMP:20260423T192244Z
URL:https://business.cambridgechamber.org/events/details/run-ride-at-cambridgeside-5371
END:VEVENT

END:VCALENDAR
