BEGIN:VCALENDAR
VERSION:2.0
PRODID:-//ChamberMaster//Event Calendar 2.0//EN
METHOD:PUBLISH
X-PUBLISHED-TTL:P3D
REFRESH-INTERVAL:P3D
CALSCALE:GREGORIAN
BEGIN:VEVENT
DTSTART:20200501T233000Z
DTEND:20200502T004500Z
X-MICROSOFT-CDO-ALLDAYEVENT:FALSE
SUMMARY:Ron Carter Trio - 83rd Birthday Celebration
DESCRIPTION:Walk or wander into the world of jazz. Ron Carter is there. His reputation in the music world is peerless. He stylishly accompanies any player or group and\, without breaking stride\, performs with stunning virtuosity as a soloist. His work is rich in detail\, pure in sound\, and technically impressive. His long list of accolades as a performer is unprecedented\; he may be the most popular bassist there is.\n\n\n\nOne of Ron's chief traits is that he creates bass lines so harmonically and rhythmically rich that soloists must go far to respond to his challenge. As he puts it: "A good bassist determines the direction of any band." Often Ron uses gonglike tones and glissandos in his work. Once his exclusive trademark\, these sounds have now become part of every modern bassist's vocabulary.
X-ALT-DESC;FMTTYPE=text/html:<span style="font-family:museo slab\,sans-serif\; font-size:13px">Walk or wander into the world of jazz. Ron Carter is there. His reputation in the music world is peerless. He stylishly accompanies any player or group and\, without breaking stride\, performs with stunning virtuosity as a soloist. His work is rich in detail\, pure in sound\, and technically impressive. His long list of accolades as a performer is unprecedented\; he may be the most popular bassist there is.</span><br />\n<br />\n<span style="font-family:museo slab\,sans-serif\; font-size:13px">One of Ron&#39\;s chief traits is that he creates bass lines so harmonically and rhythmically rich that soloists must go far to respond to his challenge. As he puts it: &quot\;A good bassist determines the direction of any band.&quot\; Often Ron uses gonglike tones and glissandos in his work. Once his exclusive trademark\, these sounds have now become part of every modern bassist&#39\;s vocabulary.</span>
LOCATION:The Regattabar at The Charles Hotel
UID:e.2584.4732
SEQUENCE:3
DTSTAMP:20260424T001009Z
URL:https://business.cambridgechamber.org/events/details/ron-carter-trio-83rd-birthday-celebration-4732
END:VEVENT

END:VCALENDAR
