BEGIN:VCALENDAR
VERSION:2.0
PRODID:-//ChamberMaster//Event Calendar 2.0//EN
METHOD:PUBLISH
X-PUBLISHED-TTL:P3D
REFRESH-INTERVAL:P3D
CALSCALE:GREGORIAN
BEGIN:VEVENT
DTSTART:20200101T023000Z
DTEND:20200101T050000Z
X-MICROSOFT-CDO-ALLDAYEVENT:FALSE
SUMMARY:Ring in 2020 with Regattabar Jazz Club
DESCRIPTION:New Year's Eve with Freddy Cole Legacy Band ft. Lionel Cole : Nat King Cole's Centennial Celebration\n\nThe Regattabar is proud to present Freddy Cole Legacy Band featuring Lionel Cole for the special New Year's Eve Celebration. 2019 is Freddy's late elder brother\, Nat "King" Cole's Centennial. What a perfect way to celebrate the year going by and ring in the New Year! All tickets include Champagne Toast at Midnight!
X-ALT-DESC;FMTTYPE=text/html:<span style="font-size:20px\;"><span style="font-family:arial\;">New Year&#39\;s Eve with Freddy Cole Legacy Band ft. Lionel Cole : Nat King Cole&#39\;s Centennial Celebration<br />\nThe Regattabar is proud to present Freddy Cole Legacy Band featuring Lionel Cole for the special New Year&#39\;s Eve Celebration. 2019 is Freddy&#39\;s late elder brother\, Nat &quot\;King&quot\; Cole&#39\;s Centennial. What a perfect way to celebrate the year going by and ring in the New Year! All tickets include Champagne Toast at Midnight!</span></span>
LOCATION:
UID:e.2584.4669
SEQUENCE:3
DTSTAMP:20260424T064931Z
URL:https://business.cambridgechamber.org/events/details/ring-in-2020-with-regattabar-jazz-club-4669
END:VEVENT

END:VCALENDAR
