BEGIN:VCALENDAR
VERSION:2.0
PRODID:-//ChamberMaster//Event Calendar 2.0//EN
METHOD:PUBLISH
X-PUBLISHED-TTL:P3D
REFRESH-INTERVAL:P3D
CALSCALE:GREGORIAN
BEGIN:VEVENT
DTSTART:20190818T203000Z
DTEND:20190818T220000Z
X-MICROSOFT-CDO-ALLDAYEVENT:FALSE
SUMMARY:Regattabar Kids’ Summer Music Series: Mister G
DESCRIPTION:Ben Gundersheimer (MISTER G) is a Latin GRAMMY Award-winning artist\, author\, activist\, and educator. Hailed as "a bilingual rock star" by the Washington Post\, he tours internationally playing everywhere from Lollapalooza and Lincoln Center to climate change rallies on Capitol Hill. His spirited bilingual performances aim to help children see each other across borders and foster cross-cultural connections.\n\n\n\nAs an outspoken environmental activist\, Ben believes that children are "the most creative and resilient drivers of social change." He describes his work as "leveraging the power of music to educate\, inspire\, and empower young people to help solve the most pressing issues of our time."\n\n\n\nBorn and raised in Philadelphia\, Ben Gundersheimer is a graduate of Amherst College and the recipient of the first songwriting scholarship awarded by the Berklee College of Music. For his Master's of Education thesis\, Ben created a curriculum that incorporated songwriting as a learning tool. Dubbed `Mister G by his 4th grade students\, he began writing the songs that would comprise his debut family album while working as a classroom teacher.\n\n\n\nMore than a decade later\, Ben has released ten albums as 'Mister G' and received numerous accolades including a Latin GRAMMY Award and four Parents' Choice Gold Awards. He tours internationally headlining performing arts centers\, festivals\, and theaters\, performing in both English and Spanish.\n\n\n\nFluent in a broad range of genres and styles\, Ben collaborates widely with internationally renowned musicians\, both onstage and in the studio. His recordings feature guest performances by saxophonist Charles Neville (Neville Brothers)\, Senegalese talking drum master Massamba Diop (Baaba Maal)\, pianist Janina Rosado (Juan Luis Guerra)\, bassist Oscar Stagnaro (Paquito D'Rivera) and pianist Arturo O'Farrill.
X-ALT-DESC;FMTTYPE=text/html:Ben Gundersheimer (MISTER G) is a Latin GRAMMY Award-winning artist\, author\, activist\, and educator. Hailed as &quot\;a bilingual rock star&quot\; by the Washington Post\, he tours internationally playing everywhere from Lollapalooza and Lincoln Center to climate change rallies on Capitol Hill. His spirited bilingual performances aim to help children see each other across borders and foster cross-cultural connections.<br />\n<br />\nAs an outspoken environmental activist\, Ben believes that children are &quot\;the most creative and resilient drivers of social change.&quot\; He describes his work as &quot\;leveraging the power of music to educate\, inspire\, and empower young people to help solve the most pressing issues of our time.&quot\;<br />\n<br />\nBorn and raised in Philadelphia\, Ben Gundersheimer is a graduate of Amherst College and the recipient of the first songwriting scholarship awarded by the Berklee College of Music. For his Master&#39\;s of Education thesis\, Ben created a curriculum that incorporated songwriting as a learning tool. Dubbed `Mister G by his 4th grade students\, he began writing the songs that would comprise his debut family album while working as a classroom teacher.<br />\n<br />\nMore than a decade later\, Ben has released ten albums as &#39\;Mister G&#39\; and received numerous accolades including a Latin GRAMMY Award and four Parents&#39\; Choice Gold Awards. He tours internationally headlining performing arts centers\, festivals\, and theaters\, performing in both English and Spanish.<br />\n<br />\nFluent in a broad range of genres and styles\, Ben collaborates widely with internationally renowned musicians\, both onstage and in the studio. His recordings feature guest performances by saxophonist Charles Neville (Neville Brothers)\, Senegalese talking drum master Massamba Diop (Baaba Maal)\, pianist Janina Rosado (Juan Luis Guerra)\, bassist Oscar Stagnaro (Paquito D&#39\;Rivera) and pianist Arturo O&#39\;Farrill.
LOCATION:The Regattabar at The Charles Hotel
UID:e.2584.4567
SEQUENCE:3
DTSTAMP:20260424T150442Z
URL:https://business.cambridgechamber.org/events/details/regattabar-kids-summer-music-series-mister-g-08-18-2019-4567
END:VEVENT

END:VCALENDAR
