BEGIN:VCALENDAR
VERSION:2.0
PRODID:-//ChamberMaster//Event Calendar 2.0//EN
METHOD:PUBLISH
X-PUBLISHED-TTL:P3D
REFRESH-INTERVAL:P3D
CALSCALE:GREGORIAN
BEGIN:VEVENT
DTSTART:20190721T203000Z
DTEND:20190721T220000Z
X-MICROSOFT-CDO-ALLDAYEVENT:FALSE
SUMMARY:Regattabar Kids’ Summer Music Series: Bill Harley
DESCRIPTION:Bill Harley is well-traveled\, well-read\, well-educated\, well-spoken and well-loved. Accompanied by his guitar\, his narrative songs and stories\, both original and traditional\, are a celebration of our common humanity. Best known for his work with children and families\, his ability to navigate through a confusing world with humor and wisdom is evident in his masterful storytelling as well as his numerous award-winning recordings and books. A two-time Grammy winner\, he is vibrant\, outrageous\, unpredictable and genuine with songs and stories about growing up\, schooling and what it is to be human--our connections with one another and with the planet we share. Recognized by audiences and peers as one of the finest performing storytellers in the country\, his work has influenced a generation of children\, parents\, performing artists and educators. Bill tours internationally as a performing artist\, author and keynote speaker from his home in Seekonk\, Massachusetts.
X-ALT-DESC;FMTTYPE=text/html:Bill Harley is well-traveled\, well-read\, well-educated\, well-spoken and well-loved. Accompanied by his guitar\, his narrative songs and stories\, both original and traditional\, are a celebration of our common humanity. Best known for his work with children and families\, his ability to navigate through a confusing world with humor and wisdom is evident in his masterful storytelling as well as his numerous award-winning recordings and books. A two-time Grammy winner\, he is vibrant\, outrageous\, unpredictable and genuine with songs and stories about growing up\, schooling and what it is to be human--our connections with one another and with the planet we share. Recognized by audiences and peers as one of the finest performing storytellers in the country\, his work has influenced a generation of children\, parents\, performing artists and educators. Bill tours internationally as a performing artist\, author and keynote speaker from his home in Seekonk\, Massachusetts.
LOCATION:The Regattabar at The Charles Hotel
UID:e.2584.4565
SEQUENCE:3
DTSTAMP:20260424T164445Z
URL:https://business.cambridgechamber.org/events/details/regattabar-kids-summer-music-series-bill-harley-4565
END:VEVENT

END:VCALENDAR
