BEGIN:VCALENDAR
VERSION:2.0
PRODID:-//ChamberMaster//Event Calendar 2.0//EN
METHOD:PUBLISH
X-PUBLISHED-TTL:P3D
REFRESH-INTERVAL:P3D
CALSCALE:GREGORIAN
BEGIN:VEVENT
DTSTART:20190714T203000Z
DTEND:20190714T220000Z
X-MICROSOFT-CDO-ALLDAYEVENT:FALSE
SUMMARY:Regattabar Kids’ Summer Music Series: Beethoven's Wig
DESCRIPTION:Richard Perlmutter is the creator\, lyricist and featured performer of Beethoven's Wig\, one of the most honored series of recordings in family music with over 50 awards\, including 4 GRAMMY Award Nominations\, 5 Parents Choice Awards\, and 4 Notable Recording Designations by the American Library Association.\n\n\n\nPerlmutter has also released two solo albums\, Tin Pan Alley and Hot Diggity\, and has produced recordings for other artists including an album by the GRAMMY Award winning group Nickel Creek\, and one featuring GRAMMY Lifetime Achievement winners Ella Jenkins and Tom Paxton.\n\n\n\nIn addition\, Richard has written commercials for radio and television which have won the International Broadcasting Award\, New York Festivals Award\, and been a Clio Award Finalist.\n\n\n\nPerlmutter's songs have been made into animated films by Smiley Guy Studios and have won major awards at the Ottawa International Animation Festival\, SNOB Film Festival\, and at Anima Mundi The International Animation Festival of Brazil.\n\n\n\nPerlmutter has performed nationwide and been featured on NPR and national television. Two collections of his songs\, as well as choral editions\, have been published by Alfred Music.\n\n\n\nPerlmutter holds degrees from Cornell University\, Rhode Island School of Design and Yale University.
X-ALT-DESC;FMTTYPE=text/html:Richard Perlmutter is the creator\, lyricist and featured performer of Beethoven&#39\;s Wig\, one of the most honored series of recordings in family music with over 50 awards\, including 4 GRAMMY Award Nominations\, 5 Parents Choice Awards\, and 4 Notable Recording Designations by the American Library Association.<br />\n<br />\nPerlmutter has also released two solo albums\, Tin Pan Alley and Hot Diggity\, and has produced recordings for other artists including an album by the GRAMMY Award winning group Nickel Creek\, and one featuring GRAMMY Lifetime Achievement winners Ella Jenkins and Tom Paxton.<br />\n<br />\nIn addition\, Richard has written commercials for radio and television which have won the International Broadcasting Award\, New York Festivals Award\, and been a Clio Award Finalist.<br />\n<br />\nPerlmutter&#39\;s songs have been made into animated films by Smiley Guy Studios and have won major awards at the Ottawa International Animation Festival\, SNOB Film Festival\, and at Anima Mundi The International Animation Festival of Brazil.<br />\n<br />\nPerlmutter has performed nationwide and been featured on NPR and national television. Two collections of his songs\, as well as choral editions\, have been published by Alfred Music.<br />\n<br />\nPerlmutter holds degrees from Cornell University\, Rhode Island School of Design and Yale University.
LOCATION:The Regattabar at The Charles Hotel
UID:e.2584.4564
SEQUENCE:3
DTSTAMP:20260424T164516Z
URL:https://business.cambridgechamber.org/events/details/regattabar-kids-summer-music-series-beethoven-s-wig-4564
END:VEVENT

END:VCALENDAR
