BEGIN:VCALENDAR
VERSION:2.0
PRODID:-//ChamberMaster//Event Calendar 2.0//EN
METHOD:PUBLISH
X-PUBLISHED-TTL:P3D
REFRESH-INTERVAL:P3D
CALSCALE:GREGORIAN
BEGIN:VEVENT
DTSTART:20190427T180000Z
DTEND:20190427T200000Z
X-MICROSOFT-CDO-ALLDAYEVENT:FALSE
SUMMARY:Refugee Resettlement in MA: Know The Facts
DESCRIPTION:This year's national Stand Against Racism campaign is "No Hate. No Fear. Immigrant Justice is Racial Justice"\n\n\n\nYWCA Cambridge will be honoring this theme through a discussion on refugee resettlement on a local scale. \n\n\n\nRSVP: http://bit.ly/CambridgeStand\n\n\n\nSpeakers:\n\nShannon Dooling\, Reporter\, WBUR 90.9 FM\, \n\nChristine Ntagengwa\, MSW\, NAIP AmeriCorps Director\, MIRA: Massachusetts Immigrant & Refugee Advocacy Coalition\n\nFred Mbuga\, Resettlement Caseworker\, Refugee & Immigrant Assistance Center
X-ALT-DESC;FMTTYPE=text/html:<span style="color:rgb(29\, 33\, 41)\; font-family:helvetica\,arial\,sans-serif\; font-size:14px">This year&#39\;s national Stand Against Racism campaign is &quot\;No Hate. No Fear. Immigrant Justice is Racial Justice&quot\;</span><br />\n<br />\n<span style="color:rgb(29\, 33\, 41)\; font-family:helvetica\,arial\,sans-serif\; font-size:14px">YWCA Cambridge will be honoring this theme through a discussion on refugee resettlement on a local scale. </span><br />\n<br />\n<span style="color:rgb(29\, 33\, 41)\; font-family:helvetica\,arial\,sans-serif\; font-size:14px">RSVP: </span><a href="https://bit.ly/CambridgeStand?fbclid=IwAR2laQ_oCveWKPtaKrNMWqJBtxRRcHigJJeX5qPoSEbFmLC-VApFnhKWy0U" rel="nofollow noopener" style="color: rgb(54\, 88\, 153)\; cursor: pointer\; text-decoration-line: none\; font-family: Helvetica\, Arial\, sans-serif\; font-size: 14px\; white-space: pre-wrap\;" target="_blank">http://bit.ly/CambridgeStand</a><br />\n<br />\n<span style="color:rgb(29\, 33\, 41)\; font-family:helvetica\,arial\,sans-serif\; font-size:14px">Speakers:</span><br />\n<span style="color:rgb(29\, 33\, 41)\; font-family:helvetica\,arial\,sans-serif\; font-size:14px">Shannon Dooling\, Reporter\, </span><a href="https://www.facebook.com/wbur/" style="color: rgb(54\, 88\, 153)\; cursor: pointer\; text-decoration-line: none\; font-family: Helvetica\, Arial\, sans-serif\; font-size: 14px\; white-space: pre-wrap\;" target="_blank">WBUR 90.9 FM</a><span style="color:rgb(29\, 33\, 41)\; font-family:helvetica\,arial\,sans-serif\; font-size:14px">\, </span><br />\n<span style="color:rgb(29\, 33\, 41)\; font-family:helvetica\,arial\,sans-serif\; font-size:14px">Christine Ntagengwa\, MSW\, NAIP AmeriCorps Director\, </span><a href="https://www.facebook.com/MIRACoalition/" style="color: rgb(54\, 88\, 153)\; cursor: pointer\; text-decoration-line: none\; font-family: Helvetica\, Arial\, sans-serif\; font-size: 14px\; white-space: pre-wrap\;" target="_blank">MIRA: Massachusetts Immigrant &amp\; Refugee Advocacy Coalition</a><br />\n<span style="color:rgb(29\, 33\, 41)\; font-family:helvetica\,arial\,sans-serif\; font-size:14px">Fred Mbuga\, Resettlement Caseworker\, </span><a href="https://www.facebook.com/BostonRIAC/" style="color: rgb(54\, 88\, 153)\; cursor: pointer\; text-decoration-line: none\; font-family: Helvetica\, Arial\, sans-serif\; font-size: 14px\; white-space: pre-wrap\;" target="_blank">Refugee &amp\; Immigrant Assistance Center</a>
LOCATION:Central Square Theatre
UID:e.2584.4070
SEQUENCE:3
DTSTAMP:20260424T214601Z
URL:https://business.cambridgechamber.org/events/details/refugee-resettlement-in-ma-know-the-facts-4070
END:VEVENT

END:VCALENDAR
