BEGIN:VCALENDAR
VERSION:2.0
PRODID:-//ChamberMaster//Event Calendar 2.0//EN
METHOD:PUBLISH
X-PUBLISHED-TTL:P3D
REFRESH-INTERVAL:P3D
CALSCALE:GREGORIAN
BEGIN:VEVENT
DTSTART:20200227T170000Z
DTEND:20200227T193000Z
X-MICROSOFT-CDO-ALLDAYEVENT:FALSE
SUMMARY:Reach Your Money Resolutions in 2020
DESCRIPTION:Join us via webinar for our Personal Finance Summit on Thursday\, February 27th\n\n\n\nSAVE FOR YOUR HOME\n\nThursday\, February 27th \n\n12:00 - 12:30 p.m.\n\nHome buying savings tips and strategies from our home loan experts. \n\n\n\nSAVE MONEY THROUGH DEBT REPAYMENT\n\nThursday\, February 27th \n\n1:00 - 1:30 p.m. \n\nRepayment strategies to save you money. Credit card and student loans will be discussed. \n\n\n\nSAVINGS ACCOUNTS AND STRATEGIES \n\nThursday\, February 27th \n\n2:00 - 2:30 p.m. \n\nCDs\, Money Markets\, Savings Clubs\, and more! Learn the ins and outs of savings accounts and strategies.
X-ALT-DESC;FMTTYPE=text/html:<span style="font-size:18px\;"><span style="font-family:arial\;"><span style="color:black\;">Join us via webinar for our Personal Finance Summit on Thursday\, February 27th</span><br />\n<br />\nSAVE FOR YOUR HOME<br />\nThursday\, February 27th&nbsp\;<br />\n12:00 - 12:30 p.m.<br />\nHome buying savings tips and strategies from our home loan experts.&nbsp\;<br />\n<br />\nSAVE MONEY THROUGH DEBT REPAYMENT<br />\nThursday\, February 27th&nbsp\;<br />\n1:00 - 1:30 p.m.&nbsp\;<br />\nRepayment strategies to save you money. Credit card and student loans will be discussed.&nbsp\;<br />\n<br />\nSAVINGS ACCOUNTS AND STRATEGIES&nbsp\;<br />\nThursday\, February 27th&nbsp\;<br />\n2:00 - 2:30 p.m.&nbsp\;<br />\nCDs\, Money Markets\, Savings Clubs\, and more! Learn the ins and outs of savings accounts and strategies.&nbsp\;</span></span>
LOCATION:
UID:e.2584.4681
SEQUENCE:3
DTSTAMP:20260424T050906Z
URL:https://business.cambridgechamber.org/events/details/reach-your-money-resolutions-in-2020-4681
END:VEVENT

END:VCALENDAR
