BEGIN:VCALENDAR
VERSION:2.0
PRODID:-//ChamberMaster//Event Calendar 2.0//EN
METHOD:PUBLISH
X-PUBLISHED-TTL:P3D
REFRESH-INTERVAL:P3D
CALSCALE:GREGORIAN
BEGIN:VEVENT
DTSTART:20200226T230000Z
DTEND:20200227T050000Z
X-MICROSOFT-CDO-ALLDAYEVENT:FALSE
SUMMARY:Punk Pig Dinner at Craigie on Main
DESCRIPTION:Return of the Craigie on Main Pig Dinner!!! (In a really bombastic and riotous way...)\n\n\n\n\n\n\n\nAbout this Event\n\n\n\nYou've been asking and we're bringing it back louder than ever...\n\nThe Craigie on Main Pig Dinner\, the Pigapalooza of events and one of your all-time favorites. For those of you who like to roll up your sleeves\, use your hands to eat\, gnaw on bones and lick your fingers let's get ready to rock out like you pig out\, in a seriously Special Edition...\n\nPUNK PIG DINNER!!!\n\nA head banging\, fist pumping and steel-toed butt kicking evening with lots of pork\, volumes of punk rock and a few of our favorite chefs.\n\nCulinary Performances from:\n\n\n	Tony Maws (Craigie on Main)\n	Jamie Bissonette (Little Donkey)\n	David Bazirgan (Bambara)\n\n\nWith Sean Woods (Craigie alum and owner of Deadhorse Hill) as our special guest bar tender for the evening.\n\nThis dinner's "menu" will include the following:\n\nPork Liver. Minor Threat. Cracklings. Buzz Cocks. Bacon. Gang Green. Ears. Mission of Burma. Tails. Bad Brains.\n\nThe liner notes:\n\n\n	Wednesday\, February 26\n	2 seatings - 6pm\, 9pm\n	3 courses FAMILY STYLE Dinner\, 9-plus dishes and canap s and cocktails to start.\n	$95 dinner. $50 wine flight\n	Reservation ONLY\n	Will be 21-plus (might be obvious but not sure how kid friendly this will be).\n	Special Bar menu also available\, first come\, first served (no reservations required). Bar menu served until 12p midnight.\n	Records will be spinning. A lot.\n\n\nWARNING - while the flavors will be nuanced and intriguing this dinner will not be subtle\, mellow\, delicate or soothing. It will be raucous\, thundering\, bombastic and just downright loud. If you do not dine on swine and prefer your volume below 10 this dinner is not for you.\n\nSee you there!
X-ALT-DESC;FMTTYPE=text/html:<div class="g-group l-lg-mar-bot-6 l-md-mar-bot-4  " style="letter-spacing: 0px\; margin: 0px 0px 30px\; padding: 0px\; font-size: 0px\; color: rgb(57\, 54\, 79)\; font-family: &quot\;Neue Plak&quot\;\, -apple-system\, BlinkMacSystemFont\, Roboto\, &quot\;Helvetica Neue&quot\;\, Helvetica\, Tahoma\, Arial\, sans-serif\; background-color: rgb(255\, 255\, 255)\;">\n<div class="g-cell g-cell-10-12 g-cell-md-1-1" style="margin: 0px\; padding: 0px 15px\; width: 560px\; box-sizing: border-box\; display: inline-block\; overflow: hidden\; vertical-align: top\; letter-spacing: 0.5px\; font-size: 0.933333rem\; line-height: 1.25rem\;">\n<div class="has-user-generated-content js-d-read-more read-more js-read-more read-more--medium-down read-more--expanded" data-xd-wired="read-more" dorsal-guid="5059f060-1b12-ad87-b23b-22d824b5ef34" style="margin: 0px\; padding: 0px\;">\n<div class="js-xd-read-more-toggle-view read-more__toggle-view" style="margin: 0px\; padding: 0px\; overflow: hidden\; position: relative\; overflow-wrap: break-word\;">\n<div class="js-xd-read-more-contents text-body-medium" data-automation="listing-event-description" style="margin: 0px\; padding: 0px\; font-size: 0.933333rem\; line-height: 1.25rem\;"><span style="font-weight: 700\; padding-top: 0px\;">Return of the Craigie on Main Pig Dinner!!! (In a really bombastic and riotous way...)</span></div>\n</div>\n</div>\n</div>\n</div>\n\n<div class="g-group l-mar-bot-6 l-sm-mar-bot-4" style="letter-spacing: 0px\; margin: 0px 0px 30px\; padding: 0px\; font-size: 0px\; color: rgb(57\, 54\, 79)\; font-family: &quot\;Neue Plak&quot\;\, -apple-system\, BlinkMacSystemFont\, Roboto\, &quot\;Helvetica Neue&quot\;\, Helvetica\, Tahoma\, Arial\, sans-serif\; background-color: rgb(255\, 255\, 255)\;">\n<div class="structured-content g-cell g-cell-10-12 g-cell-md-1-1" style="margin: 0px\; padding: 0px 15px\; width: 560px\; box-sizing: border-box\; display: inline-block\; overflow: hidden\; vertical-align: top\; letter-spacing: 0.5px\; font-size: 0.933333rem\; line-height: 1.25rem\;">\n<h2 class="text-body-large hide-small" style="margin: 0px -0.25px 0px 0px\; padding: 0px\; font-size: 1.2rem\; line-height: 1.5rem\; letter-spacing: 0.25px\;">About this Event</h2>\n\n<div class="has-user-generated-content" data-automation="about-this-event-sc" style="margin: 0px\; padding: 0px\;">\n<div class="structured-content-rich-text structured-content__module l-align-left l-mar-vert-6 l-sm-mar-vert-4 text-body-medium" style="margin: 30px 0px\; padding: 0px\; font-size: 0.933333rem\; line-height: 1.25rem\; text-rendering: optimizelegibility\;">\n<p style="margin: 0px\; padding: 0px\; color: rgb(111\, 114\, 135)\; font-size: 16px\; line-height: 1.5rem\;">You&#39\;ve been asking and we&#39\;re bringing it back louder than ever...</p>\n\n<p style="margin: 0px\; padding: 10px 0px 0px\; color: rgb(111\, 114\, 135)\; font-size: 16px\; line-height: 1.5rem\;">The Craigie on Main Pig Dinner\, the Pigapalooza of events and one of your all-time favorites. For those of you who like to roll up your sleeves\, use your hands to eat\, gnaw on bones and lick your fingers let&#39\;s get ready to rock out like you pig out\, in a seriously Special Edition...</p>\n\n<h3 style="margin: 0px\; padding: 10px 0px 0px\; color: rgb(30\, 10\, 60)\; font-size: 20px\; line-height: 1.75rem\; font-weight: 400\;">PUNK PIG DINNER!!!</h3>\n\n<p style="margin: 0px\; padding: 10px 0px 0px\; color: rgb(111\, 114\, 135)\; font-size: 16px\; line-height: 1.5rem\;">A head banging\, fist pumping and steel-toed butt kicking evening with lots of pork\, volumes of punk rock and a few of our favorite chefs.</p>\n\n<p style="margin: 0px\; padding: 10px 0px 0px\; color: rgb(111\, 114\, 135)\; font-size: 16px\; line-height: 1.5rem\;">Culinary Performances from:</p>\n\n<ul style="margin: 0px\; padding: 10px 0px 0px 2em\; list-style-position: initial\; list-style-image: initial\; color: rgb(111\, 114\, 135)\; font-size: 16px\; line-height: 1.5rem\;">\n	<li style="margin: 0px\; padding: 0px\;">Tony Maws (Craigie on Main)</li>\n	<li style="margin: 0px\; padding: 5px 0px 0px\;">Jamie Bissonette (Little Donkey)</li>\n	<li style="margin: 0px\; padding: 5px 0px 0px\;">David Bazirgan (Bambara)</li>\n</ul>\n\n<p style="margin: 0px\; padding: 10px 0px 0px\; color: rgb(111\, 114\, 135)\; font-size: 16px\; line-height: 1.5rem\;">With Sean Woods (Craigie alum and owner of Deadhorse Hill) as our special guest bar tender for the evening.</p>\n\n<p style="margin: 0px\; padding: 10px 0px 0px\; color: rgb(111\, 114\, 135)\; font-size: 16px\; line-height: 1.5rem\;">This dinner&#39\;s &quot\;menu&quot\; will include the following:</p>\n\n<p style="margin: 0px\; padding: 10px 0px 0px\; color: rgb(111\, 114\, 135)\; font-size: 16px\; line-height: 1.5rem\;">Pork Liver. Minor Threat. Cracklings. Buzz Cocks. Bacon. Gang Green. Ears. Mission of Burma. Tails. Bad Brains.</p>\n\n<p style="margin: 0px\; padding: 10px 0px 0px\; color: rgb(111\, 114\, 135)\; font-size: 16px\; line-height: 1.5rem\;"><span style="font-weight: 700\; padding-top: 0px\;">The liner notes:</span></p>\n\n<ul style="margin: 0px\; padding: 10px 0px 0px 2em\; list-style-position: initial\; list-style-image: initial\; color: rgb(111\, 114\, 135)\; font-size: 16px\; line-height: 1.5rem\;">\n	<li style="margin: 0px\; padding: 0px\;">Wednesday\, February 26</li>\n	<li style="margin: 0px\; padding: 5px 0px 0px\;">2 seatings - 6pm\, 9pm</li>\n	<li style="margin: 0px\; padding: 5px 0px 0px\;">3 courses FAMILY STYLE Dinner\, 9-plus dishes and canap&eacute\;s and cocktails to start.</li>\n	<li style="margin: 0px\; padding: 5px 0px 0px\;">$95 dinner. $50 wine flight</li>\n	<li style="margin: 0px\; padding: 5px 0px 0px\;">Reservation ONLY</li>\n	<li style="margin: 0px\; padding: 5px 0px 0px\;">Will be 21-plus (might be obvious but not sure how kid friendly this will be).</li>\n	<li style="margin: 0px\; padding: 5px 0px 0px\;">Special Bar menu also available\, first come\, first served (no reservations required). Bar menu served until 12p midnight.</li>\n	<li style="margin: 0px\; padding: 5px 0px 0px\;">Records will be spinning. A lot.</li>\n</ul>\n\n<p style="margin: 0px\; padding: 10px 0px 0px\; color: rgb(111\, 114\, 135)\; font-size: 16px\; line-height: 1.5rem\;">WARNING - while the flavors will be nuanced and intriguing this dinner will not be subtle\, mellow\, delicate or soothing. It will be raucous\, thundering\, bombastic and just downright loud. If you do not dine on swine and prefer your volume below 10 this dinner is not for you.</p>\n\n<p style="margin: 0px\; padding: 10px 0px 0px\; color: rgb(111\, 114\, 135)\; font-size: 16px\; line-height: 1.5rem\;">See you there!</p>\n\n<div>&nbsp\;</div>\n</div>\n\n<div class="structured-content__module l-mar-vert-6 l-sm-mar-vert-4 text-body-medium" style="margin: 30px 0px\; padding: 0px\; font-size: 0.933333rem\; line-height: 1.25rem\;">&nbsp\;</div>\n</div>\n</div>\n</div>\n
LOCATION:Craigie on Main 853 Main Street
UID:e.2584.5369
SEQUENCE:3
DTSTAMP:20260424T050735Z
URL:https://business.cambridgechamber.org/events/details/punk-pig-dinner-at-craigie-on-main-5369
END:VEVENT

END:VCALENDAR
