BEGIN:VCALENDAR
VERSION:2.0
PRODID:-//ChamberMaster//Event Calendar 2.0//EN
METHOD:PUBLISH
X-PUBLISHED-TTL:P3D
REFRESH-INTERVAL:P3D
CALSCALE:GREGORIAN
BEGIN:VEVENT
DTSTART:20190611T120000Z
DTEND:20190611T133000Z
X-MICROSOFT-CDO-ALLDAYEVENT:FALSE
SUMMARY:Professional Development Series: Mastering the Art of Giving and Receiving Feedback
DESCRIPTION:Join the Cambridge Chamber of Commerce and Roxana Pupkin Coaching and Consulting\, June 11th for "Mastering the Art of Giving and Receiving Feedback". How you provide and receive feedback is a marker of your courage and effectiveness as a leader. We will explore some do's and don'ts about feedback\, it's connection to your leadership\, and the benefits you will accrue through stellar listening and feedback.\n\nYou will learn:\n\n\n	\n	How the feedback you give and receive relates to your courage and effectiveness as a leader.\n	\n	\n	The challenges and principles of giving and receiving feedback well.\n	\n	\n	Common feedback scenarios and how to deal with them.\n	\n\n\nProfessional Development Classes are free for our members.\n\n\n\nAbout Roxana Pupkin:\n\nRoxana is a passionate Executive Coach\, Facilitator and Team Effectiveness Consultant with a long history of helping executives and their organizations drive results around the world. From individual coaching to assimilation\, team meeting design and facilitation to skill development\, organizational change and communications\, Roxana is able to target specific individual and group needs and deliver a customized solution to drive success. Roxana is fluent in both English and Spanish\, she is certified as a coach by the International Coach Federation (ICF) and is certified to administer a wide variety of assessments.
X-ALT-DESC;FMTTYPE=text/html:<p><span style="font-size:18px\;"><span style="font-family:arial\;"><span style="background:white\;"><span style="color:#212529\;">Join the Cambridge Chamber of Commerce and <a href="http://www.roxanapupkin.com/">Roxana Pupkin Coaching and Consulting</a>\, June 11<sup>th</sup> for &ldquo\;Mastering the Art of Giving and Receiving Feedback&rdquo\;. How you provide and receive feedback is a marker of your courage and effectiveness as a leader. We will explore some do&#39\;s and don&rsquo\;ts about feedback\, it&#39\;s connection to your leadership\, and the benefits you will accrue through stellar listening and feedback.</span></span><br />\n<span style="background:white\;"><span style="color:#212529\;">You will learn:</span></span></span></span></p>\n\n<ul>\n	<li style="color:#212529\;line-height:normal\;">\n	<p><span style="font-size:18px\;"><span style="font-family:arial\;">How the feedback you give and receive relates to your courage and effectiveness as a leader.</span></span></p>\n	</li>\n	<li style="color:#212529\;line-height:normal\;">\n	<p><span style="font-size:18px\;"><span style="font-family:arial\;">The challenges and principles of giving and receiving feedback well.</span></span></p>\n	</li>\n	<li style="color:#212529\;line-height:normal\;">\n	<p><span style="font-size:18px\;"><span style="font-family:arial\;">Common feedback scenarios and how to deal with them.</span></span></p>\n	</li>\n</ul>\n\n<p><span style="font-size:18px\;"><span style="font-family:arial\;">Professional Development Classes are free for our members.<br />\n<br />\nAbout Roxana Pupkin:<br />\nRoxana is a passionate Executive Coach\, Facilitator and Team Effectiveness Consultant with a long history of helping executives and their organizations drive results around the world. From individual coaching to assimilation\, team meeting design and facilitation to skill development\, organizational change and communications\,&nbsp\;Roxana is able to target specific individual and group needs and deliver a customized solution to drive success. Roxana is fluent in both English and Spanish\, she is certified as a coach by the International Coach Federation (ICF) and is certified to administer a wide variety of assessments.</span></span></p>\n
LOCATION:Cambridge Chamber of Commerce One Kendall Square Building 600\, Suite 6-105 Cambridge\, MA 02139
UID:e.2584.4495
SEQUENCE:3
DTSTAMP:20260424T201354Z
URL:https://business.cambridgechamber.org/events/details/professional-development-series-mastering-the-art-of-giving-and-receiving-feedback-4495
END:VEVENT

END:VCALENDAR
