BEGIN:VCALENDAR
VERSION:2.0
PRODID:-//ChamberMaster//Event Calendar 2.0//EN
METHOD:PUBLISH
X-PUBLISHED-TTL:P3D
REFRESH-INTERVAL:P3D
CALSCALE:GREGORIAN
BEGIN:VEVENT
DTSTART:20191016T160000Z
DTEND:20191016T173000Z
X-MICROSOFT-CDO-ALLDAYEVENT:FALSE
SUMMARY:Preparing Your Business for the Holiday Season: 2019 Holiday Livestream
DESCRIPTION:Rona Abrahams\, rabrahams@cambridgema.gov\, 617-349-4637\n\nJoin the Community Development Department's Economic Development Division staff for the Google and Constant Contact annual holiday livestream\, where businesses can learn how to spruce up their holiday marketing campaign. Connect with your small business community for this livestream to learn more about Google My Business listings\, online advertising\, and email marketing. Free to all.  RSVP Here
X-ALT-DESC;FMTTYPE=text/html:<p style="margin: 0px 0px 1em\; padding: 0px\; border: 0px\; line-height: 1.4\; font-family: myriad-pro\, Arial\, Helvetica\, sans-serif\; font-size: 12px\;">Rona Abrahams\, rabrahams@cambridgema.gov\, 617-349-4637</p>\n\n<p style="margin: 0px 0px 1em\; padding: 0px\; border: 0px\; line-height: 1.4\; font-family: myriad-pro\, Arial\, Helvetica\, sans-serif\; font-size: 12px\;">Join the Community Development Department&#39\;s Economic Development Division staff for the Google and Constant Contact annual holiday livestream\, where businesses can learn how to spruce up their holiday marketing campaign. Connect with your small business community for this livestream to learn more about Google My Business listings\, online advertising\, and email marketing. Free to all.&nbsp\; RSVP&nbsp\;<a href="http://bit.ly/gwgcamb2019" style="color: rgb(18\, 92\, 145)\; text-decoration-line: none\; -webkit-tap-highlight-color: rgb(52\, 158\, 219)\;">Here</a></p>\n
LOCATION:Cambridge Public Library 449 Broadway\, Level L2
UID:e.2584.4631
SEQUENCE:3
DTSTAMP:20260424T113723Z
URL:https://business.cambridgechamber.org/events/details/preparing-your-business-for-the-holiday-season-2019-holiday-livestream-4631
END:VEVENT

END:VCALENDAR
