BEGIN:VCALENDAR
VERSION:2.0
PRODID:-//ChamberMaster//Event Calendar 2.0//EN
METHOD:PUBLISH
X-PUBLISHED-TTL:P3D
REFRESH-INTERVAL:P3D
CALSCALE:GREGORIAN
BEGIN:VEVENT
DTSTART:20190420T230000Z
DTEND:20190421T020000Z
X-MICROSOFT-CDO-ALLDAYEVENT:FALSE
SUMMARY:Passover Dinner 5779
DESCRIPTION:Description\n\nCelebrate Passover 5779 in the Deli!\n\nA very special Dinner service in honor of the Passover Holiday\n\n1 seating at 7pm\n\nTicket includes a 5 course meal:\n\n	Passover Plate ... Our Gefilte Fish\, Beet Horseradish\, Charoset\, Matzah\n	Matzah Ball Soup\n	Roasted Cauliflower Salad\n	Brisket with Tzimmes \n	Flourless Chocolate Cake with Apricot\n\n \n\nAdd on a Ceremonial Seder Plate for your table!\n\nB.Y.O.H. (Bring Your Own Haggadah) - there will not be an organized Seder.\n\n \n\nAccommodations may be made for dietary needs - please let us know in advance!\n\nSpecialty Cocktails\, Beer & Wine (more than just Manischevitz!) will be available a la carte.\n\nHalf Price for Kids 12 and under (you become an adult at 13!).\n\nDinner may be plated Family Style and you may be seated communally. \n\nPlease let us know in advance if you'd like to be seated with another party.\n\n \n\n18% Gratuity for food will be added to your bill on the night of the dinner.
X-ALT-DESC;FMTTYPE=text/html:<span style="color:#1e0a3c"><span style="font-family:helvetica neue"><span style="font-size:13.5pt">Description</span></span></span><br />\n<strong><span style="color:#1e0a3c"><span style="font-family:helvetica neue"><span style="font-size:13pt">Celebrate Passover 5779 in the Deli!</span></span></span></strong><br />\n<span style="color:#1e0a3c"><span style="font-family:helvetica neue"><span style="font-size:13pt">A very special Dinner service in honor of the Passover Holiday</span></span></span><br />\n<span style="color:#1e0a3c"><span style="font-family:helvetica neue"><span style="font-size:13pt">1 seating at 7pm</span></span></span><br />\n<strong><span style="color:#1e0a3c"><span style="font-family:helvetica neue"><span style="font-size:11.5pt">Ticket includes a 5 course meal:</span></span></span></strong>\n<ul>\n	<li><strong><span style="font-family:helvetica neue"><span style="font-size:11.5pt">Passover Plate ... Our Gefilte Fish\, Beet Horseradish\, Charoset\, Matzah</span></span></strong></li>\n	<li><strong><span style="font-family:helvetica neue"><span style="font-size:11.5pt">Matzah Ball Soup</span></span></strong></li>\n	<li><strong><span style="font-family:helvetica neue"><span style="font-size:11.5pt">Roasted Cauliflower Salad</span></span></strong></li>\n	<li><strong><span style="font-family:helvetica neue"><span style="font-size:11.5pt">Brisket with Tzimmes&nbsp\;</span></span></strong></li>\n	<li><strong><span style="font-family:helvetica neue"><span style="font-size:11.5pt">Flourless Chocolate Cake with Apricot</span></span></strong></li>\n</ul>\n&nbsp\;<br />\n<strong><span style="color:#1e0a3c"><span style="font-family:helvetica neue"><span style="font-size:11.5pt">Add on a Ceremonial Seder Plate for your table!</span></span></span></strong><br />\n<span style="color:#6f7287"><span style="font-family:helvetica neue">B.Y.O.H. (Bring Your Own Haggadah) - there will not be an organized Seder.</span></span><br />\n&nbsp\;<br />\n<strong><span style="color:#1e0a3c"><span style="font-family:helvetica neue"><span style="font-size:11.5pt">Accommodations may be made for dietary needs - please let us know in advance!</span></span></span></strong><br />\n<strong><span style="color:#1e0a3c"><span style="font-family:helvetica neue"><span style="font-size:11.5pt">Specialty Cocktails\, Beer &amp\; Wine (more than just Manischevitz!) will be available a la carte.</span></span></span></strong><br />\n<strong><span style="color:#1e0a3c"><span style="font-family:helvetica neue"><span style="font-size:11.5pt">Half Price for Kids 12 and under (you become an adult at 13!).</span></span></span></strong><br />\n<strong><span style="color:#1e0a3c"><span style="font-family:helvetica neue"><span style="font-size:11.5pt">Dinner may be plated Family Style and you may be seated communally.&nbsp\;</span></span></span></strong><br />\n<strong><span style="color:#1e0a3c"><span style="font-family:helvetica neue"><span style="font-size:11.5pt">Please let us know in advance if you&#39\;d like to be seated with another party.</span></span></span></strong><br />\n&nbsp\;<br />\n<span style="color:#1e0a3c"><span style="font-family:helvetica neue"><span style="font-size:11.5pt">18% Gratuity for food will be added to your bill on the night of the dinner.</span></span></span><br />\n&nbsp\;
LOCATION:Mamaleh's Delicatessen One Kendall Square Cambridge\, MA 02139
UID:e.2584.4492
SEQUENCE:3
DTSTAMP:20260424T214152Z
URL:https://business.cambridgechamber.org/events/details/passover-dinner-5779-04-20-2019-4492
END:VEVENT

END:VCALENDAR
