BEGIN:VCALENDAR
VERSION:2.0
PRODID:-//ChamberMaster//Event Calendar 2.0//EN
METHOD:PUBLISH
X-PUBLISHED-TTL:P3D
REFRESH-INTERVAL:P3D
CALSCALE:GREGORIAN
BEGIN:VEVENT
DTSTART:20190722T220000Z
DTEND:20190723T000000Z
X-MICROSOFT-CDO-ALLDAYEVENT:FALSE
SUMMARY:Parks & Rec Trivia on the Patio
DESCRIPTION:Hello\, you beautiful tropical fish and rule-breaking moths!\n\nJoin us on our outdoor patio on Monday\, July 22nd starting at 6pm for Parks & Rec themed trivia.\n\nDetails:\n\n\n	Trivia begins at 6:00pm but we encourage you to come early for dinner & drinks.\n\n\n\n	Registration is first come\, first served and CLOSES after the first 35 teams have signed up (teams cannot exceed 6 people)\n	Trivia will be held outside on our patio. In the case of inclement weather\, trivia will move to our sister location Hurricane's at the Garden by North Station\n\n\nGood luck! Just remember... uteruses before duderuses.\n\nPlease note: RSVP does NOT guarantee a team or table. We recommend coming early as we cannot accommodate everyone.
X-ALT-DESC;FMTTYPE=text/html:<h3>Hello\, you beautiful tropical fish and rule-breaking moths!</h3>\n\n<p>Join us on our outdoor patio on Monday\, July 22nd starting at 6pm for&nbsp\;<strong>Parks &amp\; Rec</strong>&nbsp\;themed trivia.</p>\n\n<p>Details:</p>\n\n<ul>\n	<li>Trivia begins at 6:00pm but we encourage you to come early for dinner &amp\; drinks.</li>\n</ul>\n\n<ul>\n	<li>Registration is first come\, first served and CLOSES after the first 35 teams have signed up (teams cannot exceed 6 people)</li>\n	<li>Trivia will be held outside on our patio. In the case of inclement weather\, trivia will move to our sister location Hurricane&#39\;s at the Garden&nbsp\;by North Station</li>\n</ul>\n\n<p><strong>Good luck! Just remember... uteruses before duderuses.</strong></p>\n\n<p><em>Please note: RSVP does NOT guar</em><em>antee a team or table. We recommend coming early as we cannot accommodate everyone.</em></p>\n
LOCATION:Glass House 450 Kendall Street Cambridge\, MA 02142
UID:e.2584.4582
SEQUENCE:3
DTSTAMP:20260424T164254Z
URL:https://business.cambridgechamber.org/events/details/parks-rec-trivia-on-the-patio-4582
END:VEVENT

END:VCALENDAR
