BEGIN:VCALENDAR
VERSION:2.0
PRODID:-//ChamberMaster//Event Calendar 2.0//EN
METHOD:PUBLISH
X-PUBLISHED-TTL:P3D
REFRESH-INTERVAL:P3D
CALSCALE:GREGORIAN
BEGIN:VEVENT
DTSTART:20201123T050000Z
DTEND:20201218T200000Z
X-MICROSOFT-CDO-ALLDAYEVENT:FALSE
SUMMARY:Online Sealed Bid Offering - Siemens Aptio Automation Line with Pre and Post-Analytical Modules
DESCRIPTION:EquipNet\, Inc. is hosting an online Sealed Bid Offering of a Siemens Aptio Automation Line with Pre and Post-Analytical Modules. This line is equipped with Control Workstation with PC's\, Monitors\, Printer\, Back UPS Power Source\, Software: CentraLink Data Management System\, and more.\nClick here to request your bid packet!\n\n\nInspections are available by appointment only and require 48 hours advanced notice. If you have any questions on this event\, please contact us at auctions@equipnet.com or visit our website to request a bid packet today.
X-ALT-DESC;FMTTYPE=text/html:EquipNet\, Inc. is hosting an online Sealed Bid Offering of a Siemens Aptio Automation Line with Pre and Post-Analytical Modules. This line is equipped with&nbsp\;Control Workstation with PC&#39\;s\, Monitors\, Printer\, Back UPS Power Source\, Software: CentraLink Data Management System\, and more.\n<h2><a href="https://www.equipnet.com/auctions/aptio-automation-sealed-bid/1156/?utm_source=cambridgechamber&amp\;utm_medium=eventlisting&amp\;utm_campaign=aptiosealedbid121520">Click here to request your bid packet!</a></h2>\n<br />\nInspections are available by appointment only and require 48 hours advanced notice. If you have any questions on this event\, please contact us at <a href="mailto:auctions@equipnet.com">auctions@equipnet.com</a> or <a href="https://www.equipnet.com/auctions/aptio-automation-sealed-bid/1156/?utm_source=cambridgechamber&amp\;utm_medium=eventlisting&amp\;utm_campaign=aptiosealedbid121520">visit our website to request a bid packet today</a>.
LOCATION:Online at www.EquipNet.com.
UID:e.2584.5891
SEQUENCE:3
DTSTAMP:20260423T131127Z
URL:https://business.cambridgechamber.org/events/details/online-sealed-bid-offering-siemens-aptio-automation-line-with-pre-and-post-analytical-modules-5891
END:VEVENT

END:VCALENDAR
