BEGIN:VCALENDAR
VERSION:2.0
PRODID:-//ChamberMaster//Event Calendar 2.0//EN
METHOD:PUBLISH
X-PUBLISHED-TTL:P3D
REFRESH-INTERVAL:P3D
CALSCALE:GREGORIAN
BEGIN:VEVENT
DTSTART:20190509T130000Z
DTEND:20190509T200000Z
X-MICROSOFT-CDO-ALLDAYEVENT:FALSE
SUMMARY:Online Auction - Laboratory and Bioprocessing Equipment Auction from Major Multinational Pharmaceutical Manufacturers
DESCRIPTION:Featuring Bioreactors\, Mixing Systems\, Analyzers\, Chromatography Skids\, Freezers\, Incubators and much more from leading manufacturers such as Sartorius\, Thermo Fisher Scientific\, Beckman Coulter\, Nikon and More.
X-ALT-DESC;FMTTYPE=text/html:<span style="font-family:assistant\,sans-serif\; font-size:16px">Featuring Bioreactors\, Mixing Systems\, Analyzers\, Chromatography Skids\, Freezers\, Incubators and much more from leading manufacturers such as Sartorius\, Thermo Fisher Scientific\, Beckman Coulter\, Nikon and More.</span>
LOCATION:Multiple Locations United States (USA)
UID:e.2584.4501
SEQUENCE:3
DTSTAMP:20260424T214846Z
URL:https://business.cambridgechamber.org/events/details/online-auction-laboratory-and-bioprocessing-equipment-auction-from-major-multinational-pharmaceutical-manufacturers-4501
END:VEVENT

END:VCALENDAR
