BEGIN:VCALENDAR
VERSION:2.0
PRODID:-//ChamberMaster//Event Calendar 2.0//EN
METHOD:PUBLISH
X-PUBLISHED-TTL:P3D
REFRESH-INTERVAL:P3D
CALSCALE:GREGORIAN
BEGIN:VEVENT
DTSTART:20201201T080000Z
DTEND:20201201T150000Z
X-MICROSOFT-CDO-ALLDAYEVENT:FALSE
SUMMARY:Online Auction December 1: Laboratory Equipment from the Janssen Research and Development Site in Beerse\, Belgium
DESCRIPTION:EquipNet\, Inc. is hosting an online auction on December 1\, 2020\, featuring laboratory equipment from the Janssen R&D Site in Beerse\, Belgium.\n\n\n\nThe lot catalog includes a General Electric AKTA Purifier FPLC System\, Buchi Rotavap R-153 Rotary Evaporator\, Freeslate Core Module 3 Solid Dispensing System\, Agilent 1100 Series HPLC System\, Waters 2695 Alliance HPLC System with Waters 2996 Photodiode Array Detector and Waters Column Heater\, Waters Alliance 2695 HPLC Separations Module\, Hewlett Packard 1100 HPLC System\, and much more.\n\n\n\nBidding begins on December 1\, 2020 at 3:00am ET (9:00am Local) and lots begin closing  at 10:00am ET (4:00pm Local). Equipment is located in Beerse\, Belgium (Europe). Inspections are available by appointment only\, when available. For more information on the event\, please click here or contact us at auctions@equipnet.com. \n\nClick here to register for the auction.
X-ALT-DESC;FMTTYPE=text/html:<h3>EquipNet\, Inc. is hosting an <a href="https://www.equipnet.com/auctions/janssen-lab-auction-beerse/1153/?utm_source=cambridgechamber&amp\;utm_medium=eventlisting&amp\;utm_campaign=beerse120120">online auction on December 1\, 2020</a>\, featuring laboratory equipment from the Janssen R&amp\;D Site in Beerse\, Belgium.<br />\n<br />\nThe lot catalog includes a General Electric AKTA Purifier FPLC System\, Buchi Rotavap R-153 Rotary Evaporator\, Freeslate Core Module 3 Solid Dispensing System\, Agilent 1100 Series HPLC System\, Waters 2695 Alliance HPLC System with Waters 2996 Photodiode Array Detector and Waters Column Heater\, Waters Alliance 2695 HPLC Separations Module\, Hewlett Packard 1100 HPLC System\, and much more.<br />\n<br />\nBidding begins on December 1\, 2020 at 3:00am ET (9:00am Local) and lots begin closing&nbsp\; at 10:00am ET (4:00pm Local). Equipment is located in Beerse\, Belgium (Europe). Inspections are available by appointment only\, when available. For more information on the event\, <a href="https://www.equipnet.com/auctions/janssen-lab-auction-beerse/1153/?utm_source=cambridgechamber&amp\;utm_medium=eventlisting&amp\;utm_campaign=beerse120120">please click here</a> or contact us at <a href="mailto:auctions@equipnet.com">auctions@equipnet.com</a>.&nbsp\;</h3>\n\n<h2><strong><a href="https://www.equipnet.com/auctions/janssen-lab-auction-beerse/1153/?utm_source=cambridgechamber&amp\;utm_medium=eventlisting&amp\;utm_campaign=beerse120120">Click here to register for the auction.</a></strong></h2>\n\n<h3><br />\n&nbsp\;</h3>\n
LOCATION:Online @ EquipNet.com.
UID:e.2584.5476
SEQUENCE:3
DTSTAMP:20260423T131317Z
URL:https://business.cambridgechamber.org/events/details/online-auction-december-1-laboratory-equipment-from-the-janssen-research-and-development-site-in-beerse-belgium-5476
END:VEVENT

END:VCALENDAR
