BEGIN:VCALENDAR
VERSION:2.0
PRODID:-//ChamberMaster//Event Calendar 2.0//EN
METHOD:PUBLISH
X-PUBLISHED-TTL:P3D
REFRESH-INTERVAL:P3D
CALSCALE:GREGORIAN
BEGIN:VEVENT
DTSTART:20190428T200000Z
DTEND:20190429T010000Z
X-MICROSOFT-CDO-ALLDAYEVENT:FALSE
SUMMARY:Of Course! A Gala Benefit Party for Cambridge Center for Adult Education
DESCRIPTION:Of Course! - CCAE's major fundraiser - is a celebration of all that is best about CCAE!\n\n\n\nWe will feature irresistible mini-classes on topics that have caught the fancy of our best instructors. Then a brass band parade will escort us to The Charles Hotel ballroom\, where the best restaurants\, vintners\, and brewers in Cambridge will provide us with intoxicating small bites and restorative beverages. Best of all\, we will engage in the spirited conversation and sense of community that CCAE is famous for all while raising a toast to Of Course! 2019 Honorary Chairs\, Jeannie and Matey Smith.
X-ALT-DESC;FMTTYPE=text/html:Of Course! - CCAE&#39\;s major fundraiser - is a celebration of all that is best about CCAE!<br />\n<br />\nWe will feature irresistible mini-classes on topics that have caught the fancy of our best instructors. Then a brass band parade will escort us to The Charles Hotel ballroom\, where the best restaurants\, vintners\, and brewers in Cambridge will provide us with intoxicating small bites and restorative beverages. Best of all\, we will engage in the spirited conversation and sense of community that CCAE is famous for&mdash\;all while raising a toast to Of Course! 2019 Honorary Chairs\, Jeannie and Matey Smith.
LOCATION:Cambridge Center for Adult Education 42 & 56 Brattle Street\, Cambridge\, MA 02138 Charles Hotel 1 Bennett St\, Cambridge\, MA 02138
UID:e.2584.4062
SEQUENCE:3
DTSTAMP:20260424T214824Z
URL:https://business.cambridgechamber.org/events/details/of-course-a-gala-benefit-party-for-cambridge-center-for-adult-education-4062
END:VEVENT

END:VCALENDAR
