BEGIN:VCALENDAR
VERSION:2.0
PRODID:-//ChamberMaster//Event Calendar 2.0//EN
METHOD:PUBLISH
X-PUBLISHED-TTL:P3D
REFRESH-INTERVAL:P3D
CALSCALE:GREGORIAN
BEGIN:VEVENT
DTSTART:20210518T220000Z
DTEND:20210518T233000Z
X-MICROSOFT-CDO-ALLDAYEVENT:FALSE
SUMMARY:Odyssey\, Of Course!
DESCRIPTION:A Journey of Adventure\, Fun\, and Friendraising for CCAE\n\n\n\n\n\n\nAbout this event\n\n\n\nAll proceeds from Odyssey\, Of Course! benefit CCAE's individual scholarships\, outreach programs\, and public programming.\n\nCelebrate online learning\, exploration\, and community\, and spend a virtual evening with us! Examine different cultures\, enjoy new flavors\, contemplate a personal quest. We invite you to turn your screen into an odyssey and embark on an expedition of imagination and adventure.\n\n \n\nINCLUDED IN THE EVENT:\n\nExperience a cooking demonstration and special welcome from acclaimed chef Jacques Pepin.\n\n \n\nLaugh along with a Zoom cooking class gone wrong in a play by CCAE Instructor Andrea Aptecker that has been shown around the world including the New York Playbill Virtual Theatre Festival.\n\n \n\nChoose from one of 12 different 40-minute odysseys to pursue (see full session descriptions on our website):\n\n\n	From East Cambridge to MIT to NPR Stardom: My Life and Your Car Repair Car Talk Guy Ray Magliozzi\n	A New England Map of Cabot Cheeses Paired with 90+ Cellars Wines\n	Make Like Odysseus' Penelope and Weave! with CCAE Instructor Kirsten Swartz\n	Into the Deep End: How I Took Over S+H Construction\, Learned to be a CEO\, and Remade the Company\, All at the Same Time with S+H Construction Owner\, Sarah Lawson\n	The Wide World of Beer with Lamplighter Brewery\n	Turkish Culture and Cooking with Chef Didem Hosgel - Make Your Own Lahmacun\n	Charting Your Next Adventure! with CCAE Instructor Kendall Dudley\n	Va Pensiero   Odyssey of a Nation through Verdi's Opera with CCAE Instructor Maria Felicita Fichera\n	Saluti dell'acquerello: Watercolor Postcards from Home with CCAE Instructor Bryan Ramey\n	Thai Herb Salad and Magic Drink with CCAE Program Director\, Ploy Khunisorn\n	What's Hot\, What's Not? How Is Your Antique Faring in the Choppy Seas of the Auction World\n	A Dip into the Whiskey Barrel - A Cocktail\, a History\, and a Tasting with CCAE Instructor Brendan O'Toole\n\n\nLet's come together as a community\, have some fun\, and learn with and from each other. Most importantly\, spend time together and celebrate all the reasons we love Cambridge Center for Adult Education!\n\n \n\nGeneral Admission:$50 per ticket ($40 is tax deductible)\n\nPlease consider an individual sponsorship! To avoid fees\, we encourage purchasing individual sponsorships by sending a check to the CCAE office at PO Box 9113\, Cambridge\, MA O2238.\n\nAdventurers: $2\,500 ($2\,190 is tax deductible)\n\n\n	Thank You listing among our donors on the Odyssey\, Of Course! website page during the months of April through October\, 2021\n	6 tickets (with six Bags of Treats) to Odyssey\, Of Course!\n	First dibs on registration for you and your guests for the break-out session (if sponsored by April 7th)\n	Two free seats in a CCAE cooking class (value up to $250)\n\n\nExplorers: $1\,200 ($1\,160 is tax deductible)\n\n\n	Thank You listing among our donors on the Odyssey\, Of Course! website page during the months of April through October\, 2021\n	4 tickets (with four Bags of Treats) to Odyssey\, Of Course! (if sponsored by April 7th)\n	Early registration for you and your guests for the break-out session\n\n\nDreamers: $600 ($580 is tax deductible)\n\n\n	Thank You listing among our donors on the Odyssey\, Of Course! website page during the months of April through October\, 2021\n	2 tickets (with two Bags of Treats) to Odyssey\, Of Course! (if sponsored by April 7th)\n	Early registration for you and your guests for the break-out session\n\n\nCorporate Sponsorships available\, please contact Mary-Catherine Deibel at marycatherine.deibel@ccae.org or 617-547-6789
X-ALT-DESC;FMTTYPE=text/html:<div class="g-group l-lg-mar-bot-6 l-md-mar-bot-4  " style="margin: 0px 0px 30px\; padding: 0px\; font-size: 0px\; letter-spacing: 0px\; color: rgb(57\, 54\, 79)\; font-family: &quot\;Neue Plak&quot\;\, -apple-system\, BlinkMacSystemFont\, Roboto\, &quot\;Helvetica Neue&quot\;\, Helvetica\, Tahoma\, Arial\, sans-serif\; background-color: rgb(255\, 255\, 255)\;">\n<div class="g-cell g-cell-10-12 g-cell-md-1-1" style="margin: 0px\; padding: 0px 15px\; width: 560px\; box-sizing: border-box\; display: inline-block\; overflow: hidden\; vertical-align: top\; letter-spacing: 0.5px\; font-size: 0.933333rem\; line-height: 1.25rem\;">\n<div class="has-user-generated-content" style="margin: 0px\; padding: 0px\;">\n<div class="text-body-medium" data-automation="listing-event-description" style="margin: 0px\; padding: 0px\; font-size: 0.933333rem\; line-height: 1.25rem\;"><span style="font-weight: 700\; padding-top: 0px\;">A Journey of Adventure\, Fun\, and Friendraising for CCAE</span></div>\n</div>\n</div>\n</div>\n\n<div class="g-group l-mar-bot-6 l-sm-mar-bot-4" style="margin: 0px 0px 30px\; padding: 0px\; font-size: 0px\; letter-spacing: 0px\; color: rgb(57\, 54\, 79)\; font-family: &quot\;Neue Plak&quot\;\, -apple-system\, BlinkMacSystemFont\, Roboto\, &quot\;Helvetica Neue&quot\;\, Helvetica\, Tahoma\, Arial\, sans-serif\; background-color: rgb(255\, 255\, 255)\;">\n<div class="structured-content g-cell g-cell-10-12 g-cell-md-1-1" style="margin: 0px\; padding: 0px 15px\; width: 560px\; box-sizing: border-box\; display: inline-block\; overflow: hidden\; vertical-align: top\; letter-spacing: 0.5px\; font-size: 0.933333rem\; line-height: 1.25rem\;">\n<h2 class="text-body-large hide-small" style="margin: 0px -0.25px 0px 0px\; padding: 0px\; font-size: 1.2rem\; line-height: 1.5rem\; letter-spacing: 0.25px\;">About this event</h2>\n\n<div class="has-user-generated-content" data-automation="about-this-event-sc" style="margin: 0px\; padding: 0px\;">\n<div class="structured-content-rich-text structured-content__module l-align-left l-mar-vert-6 l-sm-mar-vert-4 text-body-medium" style="margin: 30px 0px\; padding: 0px\; font-size: 0.933333rem\; line-height: 1.25rem\; text-rendering: optimizelegibility\;">\n<p style="margin: 0px\; padding: 0px\; color: rgb(111\, 114\, 135)\; font-size: 16px\; line-height: 1.5rem\;"><em style="padding-top: 0px\;">All proceeds from&nbsp\;</em><em><span style="font-weight: 700\; padding-top: 0px\;">Odyssey\, Of Course!&nbsp\;</span></em><em>benefit CCAE&rsquo\;s individual scholarships\, outreach programs\, and public programming.</em></p>\n\n<p style="margin: 0px\; padding: 10px 0px 0px\; color: rgb(111\, 114\, 135)\; font-size: 16px\; line-height: 1.5rem\;">Celebrate online learning\, exploration\, and community\, and spend a virtual evening with us! Examine different cultures\, enjoy new flavors\, contemplate a personal quest. We invite you to turn your screen into an odyssey and embark on an expedition of imagination and adventure.</p>\n\n<p style="margin: 0px\; padding: 10px 0px 0px\; color: rgb(111\, 114\, 135)\; font-size: 16px\; line-height: 1.5rem\;">&nbsp\;</p>\n\n<h2 style="margin: 0px\; padding: 10px 0px 0px\; color: rgb(30\, 10\, 60)\; font-size: 24px\; line-height: 2rem\;">INCLUDED IN THE EVENT:</h2>\n\n<h3 style="margin: 0px\; padding: 10px 0px 0px\; color: rgb(30\, 10\, 60)\; font-size: 20px\; line-height: 1.75rem\; font-weight: 400\;">Experience a cooking demonstration and special welcome from acclaimed chef&nbsp\;<a href="https://jp.foundation/" rel="nofollow noopener noreferrer" style="text-decoration-line: none\; cursor: pointer\; background-color: transparent\; padding-top: 0px\;" target="_blank">Jacques Pepin</a>.</h3>\n\n<p style="margin: 0px\; padding: 10px 0px 0px\; color: rgb(111\, 114\, 135)\; font-size: 16px\; line-height: 1.5rem\;">&nbsp\;</p>\n\n<h3 style="margin: 0px\; padding: 10px 0px 0px\; color: rgb(30\, 10\, 60)\; font-size: 20px\; line-height: 1.75rem\; font-weight: 400\;">Laugh along with a Zoom cooking class gone wrong in a play by CCAE Instructor&nbsp\;<a href="https://ccae.org/about/instructors/andrea-aptecker" rel="nofollow noopener noreferrer" style="text-decoration-line: none\; cursor: pointer\; background-color: transparent\; padding-top: 0px\;" target="_blank">Andrea Aptecker</a>&nbsp\;that has been shown around the world including the New York Playbill Virtual Theatre Festival.</h3>\n\n<h3 style="margin: 0px\; padding: 10px 0px 0px\; color: rgb(30\, 10\, 60)\; font-size: 20px\; line-height: 1.75rem\; font-weight: 400\;">&nbsp\;</h3>\n\n<h3 style="margin: 0px\; padding: 10px 0px 0px\; color: rgb(30\, 10\, 60)\; font-size: 20px\; line-height: 1.75rem\; font-weight: 400\;">Choose from one of 12 different 40-minute odysseys to pursue (<a href="https://ccae.org/happenings/events/odyssey-of-course" rel="nofollow noopener noreferrer" style="text-decoration-line: none\; cursor: pointer\; background-color: transparent\; padding-top: 0px\;" target="_blank">see full session descriptions on our website</a>):</h3>\n\n<ul style="margin: 0px\; padding: 10px 0px 0px 2em\; list-style-position: initial\; list-style-image: initial\; color: rgb(111\, 114\, 135)\; font-size: 16px\; line-height: 1.5rem\;">\n	<li style="margin: 0px\; padding: 0px\;">From East Cambridge to MIT to NPR Stardom: My Life and Your Car Repair&nbsp\;<a href="https://www.cartalk.com/" rel="nofollow noopener noreferrer" style="text-decoration-line: none\; cursor: pointer\; background-color: transparent\; padding-top: 0px\;" target="_blank">Car Talk&nbsp\;</a>Guy Ray Magliozzi</li>\n	<li style="margin: 0px\; padding: 5px 0px 0px\;">A New England Map of&nbsp\;<a href="https://www.cabotcheese.coop/" rel="nofollow noopener noreferrer" style="text-decoration-line: none\; cursor: pointer\; background-color: transparent\; padding-top: 0px\;" target="_blank">Cabot Cheeses</a>&nbsp\;Paired with&nbsp\;<a href="https://www.ninetypluscellars.com/" rel="nofollow noopener noreferrer" style="text-decoration-line: none\; cursor: pointer\; background-color: transparent\;" target="_blank">90+ Cellars Wines</a></li>\n	<li style="margin: 0px\; padding: 5px 0px 0px\;">Make Like Odysseus&#39\; Penelope and Weave! with CCAE Instructor&nbsp\;<a href="https://ccae.org/about/instructors/kirsten-swartz" rel="nofollow noopener noreferrer" style="text-decoration-line: none\; cursor: pointer\; background-color: transparent\; padding-top: 0px\;" target="_blank">Kirsten Swartz</a></li>\n	<li style="margin: 0px\; padding: 5px 0px 0px\;">Into the Deep End: How I Took Over S+H Construction\, Learned to be a CEO\, and Remade the Company\, All at the Same Time with&nbsp\;<a href="https://www.shconstruction.com/" rel="nofollow noopener noreferrer" style="text-decoration-line: none\; cursor: pointer\; background-color: transparent\; padding-top: 0px\;" target="_blank">S+H Construction</a>&nbsp\;Owner\, Sarah Lawson</li>\n	<li style="margin: 0px\; padding: 5px 0px 0px\;">The Wide World of Beer with&nbsp\;<a href="https://lamplighterbrewing.com/" rel="nofollow noopener noreferrer" style="text-decoration-line: none\; cursor: pointer\; background-color: transparent\; padding-top: 0px\;" target="_blank">Lamplighter Brewery</a></li>\n	<li style="margin: 0px\; padding: 5px 0px 0px\;">Turkish Culture and Cooking with&nbsp\;<a href="https://tastefulsini.com/view/about.php" rel="nofollow noopener noreferrer" style="text-decoration-line: none\; cursor: pointer\; background-color: transparent\; padding-top: 0px\;" target="_blank">Chef Didem Hosgel</a>&nbsp\;- Make Your Own Lahmacun</li>\n	<li style="margin: 0px\; padding: 5px 0px 0px\;">Charting Your Next Adventure! with CCAE Instructor&nbsp\;<a href="https://ccae.org/about/instructors/kendall-dudley" rel="nofollow noopener noreferrer" style="text-decoration-line: none\; cursor: pointer\; background-color: transparent\; padding-top: 0px\;" target="_blank">Kendall Dudley</a></li>\n	<li style="margin: 0px\; padding: 5px 0px 0px\;">Va Pensiero &ndash\; Odyssey of a Nation through Verdi&#39\;s Opera with CCAE Instructor&nbsp\;<a href="https://ccae.org/about/instructors/maria-felicita-fichera" rel="nofollow noopener noreferrer" style="text-decoration-line: none\; cursor: pointer\; background-color: transparent\; padding-top: 0px\;" target="_blank">Maria Felicita Fichera</a></li>\n	<li style="margin: 0px\; padding: 5px 0px 0px\;">Saluti dell&#39\;acquerello: Watercolor Postcards from Home with CCAE Instructor&nbsp\;<a href="https://ccae.org/about/instructors/bryan-ramey" rel="nofollow noopener noreferrer" style="text-decoration-line: none\; cursor: pointer\; background-color: transparent\; padding-top: 0px\;" target="_blank">Bryan Ramey</a></li>\n	<li style="margin: 0px\; padding: 5px 0px 0px\;">Thai Herb Salad and Magic Drink with CCAE Program Director\,&nbsp\;<a href="https://ployskitchen.com/" rel="nofollow noopener noreferrer" style="text-decoration-line: none\; cursor: pointer\; background-color: transparent\; padding-top: 0px\;" target="_blank">Ploy Khunisorn</a></li>\n	<li style="margin: 0px\; padding: 5px 0px 0px\;">What&rsquo\;s Hot\, What&rsquo\;s Not?&mdash\;How Is Your Antique Faring in the Choppy Seas of the Auction World</li>\n	<li style="margin: 0px\; padding: 5px 0px 0px\;">A Dip into the Whiskey Barrel - A Cocktail\, a History\, and a Tasting with CCAE Instructor&nbsp\;<a href="https://ccae.org/about/instructors/brendan-otoole" rel="nofollow noopener noreferrer" style="text-decoration-line: none\; cursor: pointer\; background-color: transparent\; padding-top: 0px\;" target="_blank">Brendan O&rsquo\;Toole</a></li>\n</ul>\n\n<p style="margin: 0px\; padding: 10px 0px 0px\; color: rgb(111\, 114\, 135)\; font-size: 16px\; line-height: 1.5rem\;">Let&rsquo\;s come together as a community\, have some fun\, and learn with and from each other. Most importantly\, spend time together and celebrate all the reasons we love Cambridge Center for Adult Education!</p>\n\n<p style="margin: 0px\; padding: 10px 0px 0px\; color: rgb(111\, 114\, 135)\; font-size: 16px\; line-height: 1.5rem\;">&nbsp\;</p>\n\n<h2 style="margin: 0px\; padding: 10px 0px 0px\; color: rgb(30\, 10\, 60)\; font-size: 24px\; line-height: 2rem\;"><span style="padding-top: 0px\;">General Admission:</span>$50 per ticket ($40 is tax deductible)</h2>\n\n<p style="margin: 0px\; padding: 10px 0px 0px\; color: rgb(111\, 114\, 135)\; font-size: 16px\; line-height: 1.5rem\;"><span style="font-weight: 700\; padding-top: 0px\;">Please consider an individual sponsorship! To avoid fees\, we encourage purchasing individual sponsorships by sending a check to the CCAE office at PO Box 9113\, Cambridge\, MA O2238.</span></p>\n\n<p style="margin: 0px\; padding: 10px 0px 0px\; color: rgb(111\, 114\, 135)\; font-size: 16px\; line-height: 1.5rem\;"><span style="font-weight: 700\; padding-top: 0px\;">Adventurers: $2\,500 ($2\,190 is tax deductible)</span></p>\n\n<ul style="margin: 0px\; padding: 10px 0px 0px 2em\; list-style-position: initial\; list-style-image: initial\; color: rgb(111\, 114\, 135)\; font-size: 16px\; line-height: 1.5rem\;">\n	<li style="margin: 0px\; padding: 0px\;">Thank You listing among our donors on the&nbsp\;<em style="padding-top: 0px\;"><span style="font-weight: 700\; padding-top: 0px\;">Odyssey\, Of Course!&nbsp\;</span></em>website page during the months of April through October\, 2021</li>\n	<li style="margin: 0px\; padding: 5px 0px 0px\;">6 tickets (with six Bags of Treats) to&nbsp\;<em style="padding-top: 0px\;"><span style="font-weight: 700\; padding-top: 0px\;">Odyssey\, Of Course!</span></em></li>\n	<li style="margin: 0px\; padding: 5px 0px 0px\;">First dibs on registration for you and your guests for the break-out session (if sponsored by April 7th)</li>\n	<li style="margin: 0px\; padding: 5px 0px 0px\;">Two free seats in a CCAE cooking class (value up to $250)</li>\n</ul>\n\n<p style="margin: 0px\; padding: 10px 0px 0px\; color: rgb(111\, 114\, 135)\; font-size: 16px\; line-height: 1.5rem\;"><span style="font-weight: 700\; padding-top: 0px\;">Explorers: $1\,200 ($1\,160 is tax deductible)</span></p>\n\n<ul style="margin: 0px\; padding: 10px 0px 0px 2em\; list-style-position: initial\; list-style-image: initial\; color: rgb(111\, 114\, 135)\; font-size: 16px\; line-height: 1.5rem\;">\n	<li style="margin: 0px\; padding: 0px\;">Thank You listing among our donors on the&nbsp\;<em style="padding-top: 0px\;"><span style="font-weight: 700\; padding-top: 0px\;">Odyssey\, Of Course!&nbsp\;</span></em>website page during the months of April through October\, 2021</li>\n	<li style="margin: 0px\; padding: 5px 0px 0px\;">4 tickets (with four Bags of Treats) to&nbsp\;<em style="padding-top: 0px\;"><span style="font-weight: 700\; padding-top: 0px\;">Odyssey\, Of Course!&nbsp\;</span></em>(if sponsored by April 7th)</li>\n	<li style="margin: 0px\; padding: 5px 0px 0px\;">Early registration for you and your guests for the break-out session</li>\n</ul>\n\n<p style="margin: 0px\; padding: 10px 0px 0px\; color: rgb(111\, 114\, 135)\; font-size: 16px\; line-height: 1.5rem\;"><span style="font-weight: 700\; padding-top: 0px\;">Dreamers: $600 ($580 is tax deductible)</span></p>\n\n<ul style="margin: 0px\; padding: 10px 0px 0px 2em\; list-style-position: initial\; list-style-image: initial\; color: rgb(111\, 114\, 135)\; font-size: 16px\; line-height: 1.5rem\;">\n	<li style="margin: 0px\; padding: 0px\;">Thank You listing among our donors on the&nbsp\;<em style="padding-top: 0px\;"><span style="font-weight: 700\; padding-top: 0px\;">Odyssey\, Of Course!&nbsp\;</span></em>website page during the months of April through October\, 2021</li>\n	<li style="margin: 0px\; padding: 5px 0px 0px\;">2 tickets (with two Bags of Treats) to&nbsp\;<em style="padding-top: 0px\;"><span style="font-weight: 700\; padding-top: 0px\;">Odyssey\, Of Course!&nbsp\;</span></em>(if sponsored by April 7th)</li>\n	<li style="margin: 0px\; padding: 5px 0px 0px\;">Early registration for you and your guests for the break-out session</li>\n</ul>\n\n<p style="margin: 0px\; padding: 10px 0px 0px\; color: rgb(111\, 114\, 135)\; font-size: 16px\; line-height: 1.5rem\;">Corporate Sponsorships available\, please contact Mary-Catherine Deibel at&nbsp\;<a href="mailto:marycatherine.deibel@ccae.org" rel="nofollow noopener noreferrer" style="text-decoration-line: none\; cursor: pointer\; background-color: transparent\; padding-top: 0px\;" target="_blank">marycatherine.deibel@ccae.org</a>&nbsp\;or 617-547-6789</p>\n</div>\n</div>\n</div>\n</div>\n
LOCATION:
UID:e.2584.6046
SEQUENCE:3
DTSTAMP:20260423T073357Z
URL:https://business.cambridgechamber.org/events/details/odyssey-of-course-6046
END:VEVENT

END:VCALENDAR
