BEGIN:VCALENDAR
VERSION:2.0
PRODID:-//ChamberMaster//Event Calendar 2.0//EN
METHOD:PUBLISH
X-PUBLISHED-TTL:P3D
REFRESH-INTERVAL:P3D
CALSCALE:GREGORIAN
BEGIN:VEVENT
DTSTART:20200213T150000Z
DTEND:20200213T170000Z
X-MICROSOFT-CDO-ALLDAYEVENT:FALSE
SUMMARY:Negotiating Difficult Contracts for Small Business
DESCRIPTION:This workshop is for small businesses who have potentially difficult contract negotiation in the near future and would like some detailed advice. In this workshop\, participants will get exposure to a variety of contract types\, contract issues\, and ways to navigate them. An attorney will facilitate the workshop and give advice about clauses to watch for\, potential negotiating tips\, and suggested language changes for their agreements. ** Each participant will have to sign a non-disclosure agreement (NDA) so that everyone in the group can speak freely.
X-ALT-DESC;FMTTYPE=text/html:This workshop is for small businesses who have potentially difficult contract negotiation in the near future and would like some detailed advice. In this workshop\, participants will get exposure to a variety of contract types\, contract issues\, and ways to navigate them. An attorney will facilitate the workshop and give advice about clauses to watch for\, potential negotiating tips\, and suggested language changes for their agreements. ** Each participant will have to sign a non-disclosure agreement (NDA) so that everyone in the group can speak freely.&nbsp\;
LOCATION:Cambridge City Hall Annex 2nd Floor\, 344 Broadway
UID:e.2584.4687
SEQUENCE:3
DTSTAMP:20260424T050622Z
URL:https://business.cambridgechamber.org/events/details/negotiating-difficult-contracts-for-small-business-4687
END:VEVENT

END:VCALENDAR
