BEGIN:VCALENDAR
VERSION:2.0
PRODID:-//ChamberMaster//Event Calendar 2.0//EN
METHOD:PUBLISH
X-PUBLISHED-TTL:P3D
REFRESH-INTERVAL:P3D
CALSCALE:GREGORIAN
BEGIN:VEVENT
DTSTART:20190512T150000Z
DTEND:20190512T163000Z
X-MICROSOFT-CDO-ALLDAYEVENT:FALSE
SUMMARY:Mother's Day Sweets Cruise
DESCRIPTION:Join us on the Charles River this Mother's Day and celebrate Mom with our 90 minute cruise of the Charles River that includes assorted sweets and the best views in the city! Your captain and crew will both entertain and educate while pointing out the historic and cultural sights of Boston and Cambridge. Sights include Beacon Hill\, Esplanade Park\, the Back Bay\, Boston University\, M.I.T.\, Harvard and countless sailboats and rowers!\n\nOur full service bar will have mimosas\, bloody marys\, beer\, and wine available for purchase.
X-ALT-DESC;FMTTYPE=text/html:<p style="box-sizing: border-box\; margin: 0px 0px 20px\; color: rgb(116\, 116\, 116)\; font-family: &quot\;PT Sans&quot\;\, Arial\, Helvetica\, sans-serif\; font-size: 13px\; background-color: rgb(255\, 255\, 255)\;"><span style="font-size:18px\;"><span style="font-family:arial\;">Join us on the Charles River this Mother&rsquo\;s Day and celebrate Mom with our 90 minute cruise of the Charles River that includes assorted sweets and the best views in the city! Your captain and crew will both entertain and educate while pointing out the historic and cultural sights of Boston and Cambridge. Sights include Beacon Hill\, Esplanade Park\, the Back Bay\, Boston University\, M.I.T.\, Harvard and countless sailboats and rowers!</span></span></p>\n\n<p style="box-sizing: border-box\; margin: 0px 0px 20px\; color: rgb(116\, 116\, 116)\; font-family: &quot\;PT Sans&quot\;\, Arial\, Helvetica\, sans-serif\; font-size: 13px\; background-color: rgb(255\, 255\, 255)\;"><span style="font-size:18px\;"><span style="font-family:arial\;">Our full service bar will have mimosas\, bloody marys\, beer\, and wine available for purchase.</span></span></p>\n\n<p style="box-sizing: border-box\; margin: 0px 0px 20px\; color: rgb(116\, 116\, 116)\; font-family: &quot\;PT Sans&quot\;\, Arial\, Helvetica\, sans-serif\; font-size: 13px\; background-color: rgb(255\, 255\, 255)\;">&nbsp\;</p>\n
LOCATION:Boat departs from the Cambridgeside Mall. The dock is located outside the food court doors and H&M store.
UID:e.2584.4497
SEQUENCE:3
DTSTAMP:20260424T201121Z
URL:https://business.cambridgechamber.org/events/details/mother-s-day-sweets-cruise-4497
END:VEVENT

END:VCALENDAR
