BEGIN:VCALENDAR
VERSION:2.0
PRODID:-//ChamberMaster//Event Calendar 2.0//EN
METHOD:PUBLISH
X-PUBLISHED-TTL:P3D
REFRESH-INTERVAL:P3D
CALSCALE:GREGORIAN
BEGIN:VEVENT
DTSTART:20190512T140000Z
DTEND:20190512T180000Z
X-MICROSOFT-CDO-ALLDAYEVENT:FALSE
SUMMARY:Mother's Day Rose Brunch
DESCRIPTION:Celebrate Mother's Day the best way... with a glass (or 3) of ros !\n\nJoin us at Glass House on Sunday\, May 12th from 10:00am - 3:00pm for a Ros  Brunch to celebrate the wonderful women in your life. Enjoy ros  inspired food and drink specials\, lawn games and even a Mother's Day card-making station!\n\nLeave the kids at home or bring them along\, either way we'll keep the ros  flowing strong!\n\nFood specials:\n\n\n	1/2 Dozen Local Oysters: served with ros  mignonette $18\n	Ros  Mussels: ros  spiked broth\, smoked bacon\, cream & tarragon\, served with grilled naan bread $15\n	Smoked Salmon Benedict: smoked salmon\, spinach\, poached eggs\, ros  hollandaise\, english muffin\, breakfast potatoes $21\n	Cr me Br l e: rosewater & strawberry $8\n\n\nDrink specials: \n\n\n	Ros  Sangria: cote mas ros \, stoli strawberry\, triple sec\, strawberries\, grapefruit juice $11\n	Pretty in Pink: ros \, strawberry sorbet\, soda water $11\n	Lychee Ros  Mimosa: lychee syrup\, rosewater\, champagne $11\n	Summer Thyme: wireworks ros  gin\, st-germain liqueur\, cucumber pur e\, thyme simple\, lemon juice\, prosecco $13\n	Lavender Lemonade Ros : ros \, lavender syrup\, lemonade\, soda water $10\n\n\nReservations are highly recommended - please call (617) 945 -9450 or go to glasshousecambridge.com to secure your spot.
X-ALT-DESC;FMTTYPE=text/html:<h2>Celebrate Mother&#39\;s Day the best way... with a glass (or 3) of ros&eacute\;!</h2>\n\n<p>Join us at&nbsp\;<a href="https://www.glasshousecambridge.com/menus/#mothers-day-specials" rel="nofollow noopener noreferrer" style="color: var(--eds-control\,#3659e3)\; text-decoration-line: none\; cursor: pointer\; background-color: transparent\; padding-top: 0px\;" target="_blank" title="Glass House">Glass House</a>&nbsp\;on Sunday\, May 12th from 10:00am - 3:00pm for a Ros&eacute\; Brunch to celebrate the wonderful women in your life. Enjoy ros&eacute\; inspired food and drink specials\, lawn games and even a Mother&#39\;s Day card-making station!</p>\n\n<p>Leave the kids at home or bring them along\, either way we&#39\;ll keep the ros&eacute\; flowing strong!</p>\n\n<p><strong>Food specials:</strong></p>\n\n<ul>\n	<li>1/2 Dozen Local Oysters: served with ros&eacute\;&nbsp\;mignonette $18</li>\n	<li>Ros&eacute\;&nbsp\;Mussels: ros&eacute\; spiked broth\, smoked bacon\, cream &amp\; tarragon\, served with grilled naan bread $15</li>\n	<li>Smoked Salmon Benedict: smoked salmon\, spinach\, poached eggs\, ros&eacute\; hollandaise\, english muffin\, breakfast potatoes $21</li>\n	<li>Cr&egrave\;me Br&ucirc\;l&eacute\;e: rosewater &amp\; strawberry $8</li>\n</ul>\n\n<p><strong>Drink specials:&nbsp\;</strong></p>\n\n<ul>\n	<li>Ros&eacute\; Sangria: cote mas ros&eacute\;\,&nbsp\;stoli strawberry\, triple sec\, strawberries\, grapefruit juice $11</li>\n	<li>Pretty in Pink: ros&eacute\;\,&nbsp\;strawberry sorbet\, soda water $11</li>\n	<li>Lychee Ros&eacute\; Mimosa: lychee syrup\, rosewater\, champagne $11</li>\n	<li>Summer Thyme: wireworks ros&eacute\; gin\, st-germain liqueur\, cucumber pur&eacute\;e\, thyme simple\, lemon juice\, prosecco $13</li>\n	<li>Lavender Lemonade Ros&eacute\;: ros&eacute\;\, lavender syrup\, lemonade\, soda water $10</li>\n</ul>\n\n<p><em>Reservations are highly recommended - please call (617) 945 -9450 or go to glasshousecambridge.com to secure your spot.&nbsp\;</em></p>\n\n<div>&nbsp\;</div>\n
LOCATION:Glass House 450 Kendall Street Cambridge\, MA 02142
UID:e.2584.4505
SEQUENCE:3
DTSTAMP:20260424T214127Z
URL:https://business.cambridgechamber.org/events/details/mother-4505
END:VEVENT

END:VCALENDAR
