BEGIN:VCALENDAR
VERSION:2.0
PRODID:-//ChamberMaster//Event Calendar 2.0//EN
METHOD:PUBLISH
X-PUBLISHED-TTL:P3D
REFRESH-INTERVAL:P3D
CALSCALE:GREGORIAN
BEGIN:VEVENT
DTSTART:20190514T233000Z
DTEND:20190515T010000Z
X-MICROSOFT-CDO-ALLDAYEVENT:FALSE
SUMMARY:Moshulu
DESCRIPTION:Featuring: JEFF BERLIN: bass\n\nDENNIS CHAMBERS: drums\n\nDAVID SANCIOUS: keyboards\, guitar\n\nOZ NOY: guitar\n\nMoshulu was a ship of strength\, one of the last four-masted steel barques ever built. Named for the four masted ship\, Moshulu is now a new project combining four legends of music. Bassist Jeff Berlin (Bill Bruford\, Allan Holdsworth\, HBC)\, drummer Dennis Chambers (Funkadelics\, John Scofield\, Santana)\, keyboardist/guitarist David Sancious (Bruce Springsteen\, Sting) and the great guitarist Oz Noy\, join together bringing masters playing with intensity and skill.\n\n\n\n?Moshulu's repertoire goes from funk\, rock\, metal\, fusion into new classical and improvisation. Their individual playing skills have blown people away for decades. Together\, they are THE band to watch in coming years. They are a musical ship that will take the audience on a journey into powerful and beautiful music.
X-ALT-DESC;FMTTYPE=text/html:<h3>Featuring: JEFF BERLIN: bass<br />\nDENNIS CHAMBERS: drums<br />\nDAVID SANCIOUS: keyboards\, guitar<br />\nOZ NOY: guitar</h3>\n\n<p>Moshulu was a ship of strength\, one of the last four-masted steel barques ever built. Named for the four masted ship\, Moshulu is now a new project combining four legends of music. Bassist Jeff Berlin (Bill Bruford\, Allan Holdsworth\, HBC)\, drummer Dennis Chambers (Funkadelics\, John Scofield\, Santana)\, keyboardist/guitarist David Sancious (Bruce Springsteen\, Sting) and the great guitarist Oz Noy\, join together bringing masters playing with intensity and skill.<br />\n<br />\n?Moshulu&#39\;s repertoire goes from funk\, rock\, metal\, fusion into new classical and improvisation. Their individual playing skills have blown people away for decades. Together\, they are THE band to watch in coming years. They are a musical ship that will take the audience on a journey into powerful and beautiful music.</p>\n
LOCATION:The Regattabar at The Charles Hotel
UID:e.2584.4066
SEQUENCE:3
DTSTAMP:20260424T214041Z
URL:https://business.cambridgechamber.org/events/details/moshulu-4066
END:VEVENT

END:VCALENDAR
