BEGIN:VCALENDAR
VERSION:2.0
PRODID:-//ChamberMaster//Event Calendar 2.0//EN
METHOD:PUBLISH
X-PUBLISHED-TTL:P3D
REFRESH-INTERVAL:P3D
CALSCALE:GREGORIAN
BEGIN:VEVENT
DTSTART:20190810T230000Z
DTEND:20190811T030000Z
X-MICROSOFT-CDO-ALLDAYEVENT:FALSE
SUMMARY:Moon Rocks: Concerts under the moon
DESCRIPTION:Saturdays in August\, visit Hack the Moon LIVE to enjoy live music under our illuminated Museum of the Moon. Guests will be able to explore the interactive exhibit inside Draper's Atrium\, including access to our 4-D Apollo lunar landing simulator. Each concert will be held outdoors in front of Draper's Atrium and will include two sets beginning at 7 PM. Concerts will occur rain or shine the party will simply move indoors in case of bad weather. BYO-Everything! Bring along chairs\, blankets\, food & non-alcoholic refreshments to enjoy during the concert. Saturday\, August 3: Dionysia Saturday\, August 10: Laura Orshaw & The New Velvet Band Saturday\, August 17: Natalie Joly Saturday\, August 24: The 1999 Visit wehackthemoon.com/events for more details about the bands!
X-ALT-DESC;FMTTYPE=text/html:Saturdays in August\, visit Hack the Moon LIVE to enjoy live music under our illuminated Museum of the Moon. Guests will be able to explore the interactive exhibit inside Draper&rsquo\;s Atrium\, including access to our 4-D Apollo lunar landing simulator. Each concert will be held outdoors in front of Draper&rsquo\;s Atrium and will include two sets beginning at 7 PM. Concerts will occur rain or shine&mdash\;the party will simply move indoors in case of bad weather. BYO-Everything! Bring along chairs\, blankets\, food &amp\; non-alcoholic refreshments to enjoy during the concert. Saturday\, August 3: Dionysia Saturday\, August 10: Laura Orshaw &amp\; The New Velvet Band Saturday\, August 17: Natalie Joly Saturday\, August 24: The 1999 Visit wehackthemoon.com/events for more details about the bands!
LOCATION:Draper\, 555 Technology Square\, Cambridge\, MA 02139
UID:e.2584.4590
SEQUENCE:3
DTSTAMP:20260424T144848Z
URL:https://business.cambridgechamber.org/events/details/moon-rocks-concerts-under-the-moon-08-10-2019-4590
END:VEVENT

END:VCALENDAR
