BEGIN:VCALENDAR
VERSION:2.0
PRODID:-//ChamberMaster//Event Calendar 2.0//EN
METHOD:PUBLISH
X-PUBLISHED-TTL:P3D
REFRESH-INTERVAL:P3D
CALSCALE:GREGORIAN
BEGIN:VEVENT
DTSTART:20191223T220000Z
DTEND:20191223T230000Z
X-MICROSOFT-CDO-ALLDAYEVENT:FALSE
SUMMARY:Menorah Lighting at CambridgeSide
DESCRIPTION:Menorah Lighting at CambridgeSide \n\nMonday\, December 23\, 2019 on Level 2\n\nJoin us Monday\, December 23\, 2019 at 5pm for a festive gathering in lighting the Menorah. Event will feature refreshments\, crafts and entertainment for all ages\, in partnership with Cambridge Jewish Center for the Arts.
X-ALT-DESC;FMTTYPE=text/html:<strong><u><span style="font-family:arial\,sans-serif\;"><span style="font-size:11.0pt\;">Menorah Lighting at CambridgeSide </span></span></u></strong><br />\n<strong><span style="font-family:arial\,sans-serif\;"><span style="font-size:11.0pt\;">Monday\, December 23\, 2019 on Level 2</span></span></strong><br />\n<span style="font-family:arial\,sans-serif\;"><span style="font-size:11.0pt\;">Join us Monday\, December 23\, 2019 at 5pm for a festive gathering in lighting the Menorah. Event will feature refreshments\, <span style="background:white\;">crafts and entertainment for all ages\, in partnership with Cambridge Jewish Center for the Arts.</span></span></span>
LOCATION:
UID:e.2584.4666
SEQUENCE:3
DTSTAMP:20260424T082037Z
URL:https://business.cambridgechamber.org/events/details/menorah-lighting-at-cambridgeside-4666
END:VEVENT

END:VCALENDAR
