BEGIN:VCALENDAR
VERSION:2.0
PRODID:-//ChamberMaster//Event Calendar 2.0//EN
METHOD:PUBLISH
X-PUBLISHED-TTL:P3D
REFRESH-INTERVAL:P3D
CALSCALE:GREGORIAN
BEGIN:VEVENT
DTSTART:20221205T170000Z
DTEND:20221221T031500Z
X-MICROSOFT-CDO-ALLDAYEVENT:FALSE
SUMMARY:Mayor Siddiqui’s Winter Drive
DESCRIPTION:This Holiday Season Please Join Us in Supporting Local Families in Need\n\n \n\nThe Cambridge Chamber is pleased to support Mayor Siddiqui's Winter Drive along with Harvard and MIT. The goal is to support 1\,000 local families with gift cards this Holiday Season.\n\n \n\n"We are aiming to deliver gift cards to Cambridge residents most in need\, and it is my hope that the local business community will partner with us in this effort. The rising costs of food and home goods has been even more of a burden this year\, and we hope this small\, but meaningful gesture will help alleviate some of the pressure our most vulnerable residents feel this holiday season. I am grateful to Harvard\, MIT\, and the Chamber for helping lead this effort." - Mayor Sumbul Siddiqui\n\n\n\n\n\nTo make your donation please click the Register Button\n\n\n\nGift cards will be purchased in $50 increments from grocery stores including Market Basket\, Daily Table\, Target\, and Stop & Shop as well as from local restaurants in the Cambridge Business Diversity Directory.\n\n \n\n\n\n1 Gift Card - $50\n\n2 Gift Cards - $100\n\n5 Gift Cards - $250 \n\n10 Gift Cards - $500\n\n20 Gift Cards - $1\,000\n\n\n\nIf you would like to purchase more than 20 gift cards or pay by check please call Mike Hoff - 617 876 4135.
X-ALT-DESC;FMTTYPE=text/html:<strong><span style="background:white\;"><span style="color:#444444\;"><span style="font-family:arial\,sans-serif\;"><span style="font-size:18.0pt\;">This Holiday Season Please Join Us in Supporting Local Families in Need</span></span></span></span></strong><br style="box-sizing:border-box\;" />\n<span style="background:white\;"><span style="color:#444444\;"><span style="font-family:arial\,sans-serif\;"><span style="font-size:15.0pt\;">&nbsp\;<br style="box-sizing:border-box\;" />\nThe Cambridge Chamber is pleased to support Mayor Siddiqui&rsquo\;s Winter Drive along with Harvard and MIT. The goal is to support 1\,000 local families with gift cards this Holiday Season.<br style="box-sizing:border-box\;" />\n&nbsp\;<br style="box-sizing:border-box\;" />\n&ldquo\;</span></span></span></span><span style="font-size:20px\;">We are aiming to deliver gift cards to Cambridge residents most in need\, and it is my hope that the local business community will partner with us in this effort. The rising costs of food and home goods has been even more of a burden this year\, and we hope this small\, but meaningful gesture will help alleviate some of the pressure our most vulnerable residents feel this holiday season. I am grateful to Harvard\, MIT\, and the Chamber for helping lead this effort.&rdquo\; - Mayor Sumbul Siddiqui</span><br />\n<br style="box-sizing:border-box\;" />\n<br style="box-sizing:border-box\;" />\n<strong style="box-sizing:border-box\;"><span style="box-sizing:border-box\;"><span style="background:white\;"><span style="color:#444444\;"><span style="font-family:arial\,sans-serif\;"><span style="font-size:18.0pt\;">To make your donation please click the Register Button</span></span></span></span></span></strong><br style="box-sizing:border-box\;" />\n<br style="box-sizing:border-box\;" />\n<span style="background:white\;"><span style="color:#444444\;"><span style="font-family:arial\,sans-serif\;"><span style="font-size:13.5pt\;"><span style="box-sizing:border-box\;">Gift cards will be purchased in $50 increments from grocery stores including Market Basket\, Daily Table\, Target\, and Stop &amp\; Shop as well as from local restaurants in the Cambridge Business Diversity Directory.</span></span></span></span></span><br style="box-sizing:border-box\;" />\n&nbsp\;<br style="box-sizing:border-box\;" />\n<br style="box-sizing:border-box\;" />\n<span style="background:white\;"><span style="color:#444444\;"><span style="font-family:arial\,sans-serif\;"><span style="font-size:15.0pt\;"><span style="box-sizing:border-box\;">1 Gift Card - $50<br style="box-sizing:border-box\;" />\n2 Gift Cards - $100<br style="box-sizing:border-box\;" />\n5 Gift Cards - $250&nbsp\;<br style="box-sizing:border-box\;" />\n10 Gift Cards - $500<br style="box-sizing:border-box\;" />\n20 Gift Cards - $1\,000<br style="box-sizing:border-box\;" />\n<br style="box-sizing:border-box\;" />\nIf you would like to purchase more than 20 gift cards&nbsp\;or&nbsp\;pay by check&nbsp\;please call Mike Hoff - 617 876 4135.&nbsp\;</span></span></span></span></span>
LOCATION:
UID:e.2584.6567
SEQUENCE:3
DTSTAMP:20260424T121026Z
URL:https://business.cambridgechamber.org/events/details/mayor-siddiqui-s-winter-drive-6567
END:VEVENT

END:VCALENDAR
