BEGIN:VCALENDAR
VERSION:2.0
PRODID:-//ChamberMaster//Event Calendar 2.0//EN
METHOD:PUBLISH
X-PUBLISHED-TTL:P3D
REFRESH-INTERVAL:P3D
CALSCALE:GREGORIAN
BEGIN:VEVENT
DTSTART:20191020T170000Z
DTEND:20191020T190000Z
X-MICROSOFT-CDO-ALLDAYEVENT:FALSE
SUMMARY:Matignon Open House
DESCRIPTION:Open House is a fun and interactive way for prospective families to see our facilities and learn about academics face-to-face. Prospective families can take a guided tour\, meet coaches and current parents\, hear from alumni\, learn about financial aid and scholarship opportunities\, and explore our various sports and clubs. And like any good family reunion\, we will be serving up free lunch samples! Email admissions@matignon.org or call (617) 876-1212 x11 for more information!
X-ALT-DESC;FMTTYPE=text/html:Open House is a fun and interactive way for prospective families to see our facilities and learn about academics face-to-face. Prospective families can take a guided tour\, meet coaches and current parents\, hear from alumni\, learn about financial aid and scholarship opportunities\, and explore our various sports and clubs. And like any good family reunion\, we will be serving up free lunch samples! Email admissions@matignon.org or call (617) 876-1212 x11 for more information!
LOCATION:1 Matignon Road Cambridge\, MA 02140
UID:e.2584.4641
SEQUENCE:3
DTSTAMP:20260424T112350Z
URL:https://business.cambridgechamber.org/events/details/matignon-open-house-10-20-2019-4641
END:VEVENT

END:VCALENDAR
