BEGIN:VCALENDAR
VERSION:2.0
PRODID:-//ChamberMaster//Event Calendar 2.0//EN
METHOD:PUBLISH
X-PUBLISHED-TTL:P3D
REFRESH-INTERVAL:P3D
CALSCALE:GREGORIAN
BEGIN:VEVENT
DTSTART:20201024T160000Z
DTEND:20201024T193000Z
X-MICROSOFT-CDO-ALLDAYEVENT:FALSE
SUMMARY:Matignon High School Open House
DESCRIPTION:Calling all incoming Freshmen\, transfer students\, and prospective families - want to learn more about Matignon High School? Looking for a high school that offers both remote learning and in-person options? Curious about Matignon's innovative experiential learning curriculum\, numerous clubs\, athletics\, and student opportunities? RSVP to our Open House TODAY! Matignon is offering two open house dates: October 24th from 12:00 PM - 3:30 PM in-person\, AND October 29th from 7:00 PM - 8:15 PM online. RSVP at www.matignon.org/openhouse!
X-ALT-DESC;FMTTYPE=text/html:Calling all incoming Freshmen\, transfer students\, and prospective families - want to learn more about Matignon High School? Looking for a high school that offers both remote learning and in-person options? Curious about Matignon&rsquo\;s innovative experiential learning curriculum\, numerous clubs\, athletics\, and student opportunities? RSVP to our Open House TODAY! Matignon is offering two open house dates: October 24th from 12:00 PM - 3:30 PM in-person\, AND October 29th from 7:00 PM - 8:15 PM online. RSVP at www.matignon.org/openhouse!
LOCATION:On the 24th - in person at 1 Matignon Road in Cambridge.
UID:e.2584.5445
SEQUENCE:3
DTSTAMP:20260423T161419Z
URL:https://business.cambridgechamber.org/events/details/matignon-high-school-open-house-5445
END:VEVENT

END:VCALENDAR
