BEGIN:VCALENDAR
VERSION:2.0
PRODID:-//ChamberMaster//Event Calendar 2.0//EN
METHOD:PUBLISH
X-PUBLISHED-TTL:P3D
REFRESH-INTERVAL:P3D
CALSCALE:GREGORIAN
BEGIN:VEVENT
DTSTART:20190926T170000Z
DTEND:20190926T190000Z
X-MICROSOFT-CDO-ALLDAYEVENT:FALSE
SUMMARY:MassHire Metro North Cambridge Job Fair
DESCRIPTION:MassHire Metro North in Cambridge will be hosting a multi industry job fair.\n\n	Dress Professionally and bring plenty of resumes!\n	Registration encouraged!\n	To register please contact us with your Job Seeker ID \n	Call 617 - 661 - 7867\n	Or Email mserrano-montero@mhmncc.com\n	Walk-ins welcome
X-ALT-DESC;FMTTYPE=text/html:MassHire Metro North in Cambridge will be hosting a multi industry job fair.\n<ul>\n	<li>Dress Professionally and bring plenty of resumes!</li>\n	<li>Registration encouraged!</li>\n	<li>To register please contact us with your Job Seeker ID&nbsp\;</li>\n	<li>Call 617 - 661 - 7867</li>\n	<li>Or Email mserrano-montero@mhmncc.com</li>\n	<li>Walk-ins welcome&nbsp\;</li>\n</ul>\n
LOCATION:MassHIre Metro North Cambridge 186 Alewife Brook Parkway Cambridge\, MA 02138
UID:e.2584.4615
SEQUENCE:3
DTSTAMP:20260424T130240Z
URL:https://business.cambridgechamber.org/events/details/masshire-metro-north-cambridge-job-fair-4615
END:VEVENT

END:VCALENDAR
