BEGIN:VCALENDAR
VERSION:2.0
PRODID:-//ChamberMaster//Event Calendar 2.0//EN
METHOD:PUBLISH
X-PUBLISHED-TTL:P3D
REFRESH-INTERVAL:P3D
CALSCALE:GREGORIAN
BEGIN:VEVENT
DTSTART:20190729T220000Z
DTEND:20190730T000000Z
X-MICROSOFT-CDO-ALLDAYEVENT:FALSE
SUMMARY:Marvel Movies Trivia on the Patio
DESCRIPTION:Avengers Assemble!\nJoin us on our outdoor patio on Monday\, July 29th starting at 6pm for Marvel Movie Trivia!\n\nGet ready to kick names & take ass as you get tested on the MCU!\nDetails:\n\n	Trivia begins at 6:00pm but we encourage you to come early for dinner & drinks\n	Registration is first come\, first served and CLOSES after the first 35 teams have signed up (teams cannot exceed 6 people)\n	Trivia will be held outside on our patio. In the case of inclement weather\, trivia will move to our sister location Hurricane's at the Garden by North Station\n\nWe love you 3000\, and don't embarrass us in front of the wizards.\n\nPlease note: RSVP does NOT guarantee a team or table. We recommend coming early as we cannot accommodate everyone.
X-ALT-DESC;FMTTYPE=text/html:<h2>Avengers&hellip\;Assemble!</h2>\nJoin us on our outdoor patio on Monday\, July 29th starting at 6pm for&nbsp\;<strong>Marvel Movie Trivia</strong>!<br />\nGet ready to kick names &amp\; take ass as you get tested on the MCU!\n<div>Details:\n<ul>\n	<li>Trivia begins at 6:00pm but we encourage you to come early for dinner &amp\; drinks</li>\n	<li>Registration is first come\, first served and CLOSES after the first 35 teams have signed up (teams cannot exceed 6 people)</li>\n	<li>Trivia will be held outside on our patio. In the case of inclement weather\, trivia will move to our sister location Hurricane&#39\;s at the Garden by North Station</li>\n</ul>\n<strong>We love you 3000\, and don&rsquo\;t embarrass us in front of the wizards.</strong><br />\n<em>Please note: RSVP does NOT guar</em><em>antee a team or table. We recommend coming early as we cannot accommodate everyone.</em><br />\n&nbsp\;</div>\n
LOCATION:Glass House 450 Kendall Street Cambridge\, MA 02142
UID:e.2584.4583
SEQUENCE:3
DTSTAMP:20260424T164439Z
URL:https://business.cambridgechamber.org/events/details/marvel-movies-trivia-on-the-patio-4583
END:VEVENT

END:VCALENDAR
