BEGIN:VCALENDAR
VERSION:2.0
PRODID:-//ChamberMaster//Event Calendar 2.0//EN
METHOD:PUBLISH
X-PUBLISHED-TTL:P3D
REFRESH-INTERVAL:P3D
CALSCALE:GREGORIAN
BEGIN:VEVENT
DTSTART:20210423T220000Z
DTEND:20210423T233000Z
X-MICROSOFT-CDO-ALLDAYEVENT:FALSE
SUMMARY:Margaret Fuller House - Virtual Cooking Class Fundraiser
DESCRIPTION:We are so exciting to partner with local Pop-Up Chef Charles Isadore for a virtual cooking class on Friday April 23rd at 6:00PM. Tickets are $35 per device and include a full cooking class with a vegetarian friendly pasta dish! Registration is available on our website margaretfullerhouse.org
X-ALT-DESC;FMTTYPE=text/html:<span style="font-size:18px\;">We are so exciting to partner with local Pop-Up Chef Charles Isadore for a virtual cooking class on Friday April 23rd at 6:00PM. Tickets are $35 per device and include a full cooking class with a vegetarian friendly pasta dish! Registration is available on our website margaretfullerhouse.org</span>
LOCATION:Virtual
UID:e.2584.5985
SEQUENCE:3
DTSTAMP:20260423T073504Z
URL:https://business.cambridgechamber.org/events/details/margaret-fuller-house-virtual-cooking-class-fundraiser-5985
END:VEVENT

END:VCALENDAR
