BEGIN:VCALENDAR
VERSION:2.0
PRODID:-//ChamberMaster//Event Calendar 2.0//EN
METHOD:PUBLISH
X-PUBLISHED-TTL:P3D
REFRESH-INTERVAL:P3D
CALSCALE:GREGORIAN
BEGIN:VEVENT
DTSTART:20200212T150000Z
DTEND:20200212T170000Z
X-MICROSOFT-CDO-ALLDAYEVENT:FALSE
SUMMARY:Making Awesome Social Media Videos
DESCRIPTION:Are you looking to maximize the marketing impact for your business? Video is a key way to engage current and prospective customers. In this workshop you'll be learning easy and time efficient ways to create branded video content that will build your audience and drive your business forward.
X-ALT-DESC;FMTTYPE=text/html:Are you looking to maximize the marketing impact for your business? Video is a key way to engage current and prospective customers. In this workshop you&#39\;ll be learning easy and time efficient ways to create branded video content that will build your audience and drive your business forward.&nbsp\;
LOCATION:CCTV 438 Massachusetts Ave
UID:e.2584.4686
SEQUENCE:3
DTSTAMP:20260424T064828Z
URL:https://business.cambridgechamber.org/events/details/making-awesome-social-media-videos-4686
END:VEVENT

END:VCALENDAR
