BEGIN:VCALENDAR
VERSION:2.0
PRODID:-//ChamberMaster//Event Calendar 2.0//EN
METHOD:PUBLISH
X-PUBLISHED-TTL:P3D
REFRESH-INTERVAL:P3D
CALSCALE:GREGORIAN
BEGIN:VEVENT
DTSTART:20201202T143000Z
DTEND:20201202T153000Z
X-MICROSOFT-CDO-ALLDAYEVENT:FALSE
SUMMARY:MA Paid Family Medical Leave Law - Webinar Discussion
DESCRIPTION:For businesses with 25 or more employees - How it affects your business?\n\n \n\nJoin the Chamber and the CIP Group for a discussion on the Paid Family Medical Leave (PFML) law that is set to take effect in January 2021.  \n\n \n\nThe CIP Group will explain how your company may be able to save money\, improve claims efficiency\, and avoid job protection issues with a private option. \n\n \n\nPlease sign up for our webinar on Wednesday\, December 2nd at 9:30am.
X-ALT-DESC;FMTTYPE=text/html:<strong><em><span style="font-size:22.0pt\;">For businesses with 25 or more employees - How it affects your business?</span></em></strong><br />\n&nbsp\;<br />\n<span style="font-size:16.0pt\;">Join the Chamber and the CIP Group for a discussion on the Paid Family Medical Leave (PFML) law that is set to take effect in January 2021.&nbsp\; </span><br />\n&nbsp\;<br />\n<span style="font-size:16.0pt\;">The CIP Group will explain how your company may be able to save money\, improve claims efficiency\, and avoid job protection issues with a private option. </span><br />\n&nbsp\;<br />\n<span style="font-size:16.0pt\;">Please sign up for our webinar on Wednesday\, December 2<sup>nd</sup> at 9:30am. </span><br />\n&nbsp\;<br />\n&nbsp\;<br />\n<br />\n<span style="font-size:24px\;">&nbsp\;<br />\n&nbsp\;</span>
LOCATION:Zoom
UID:e.2584.5890
SEQUENCE:3
DTSTAMP:20260423T143829Z
URL:https://business.cambridgechamber.org/events/details/ma-paid-family-medical-leave-law-webinar-discussion-5890
END:VEVENT

END:VCALENDAR
