BEGIN:VCALENDAR
VERSION:2.0
PRODID:-//ChamberMaster//Event Calendar 2.0//EN
METHOD:PUBLISH
X-PUBLISHED-TTL:P3D
REFRESH-INTERVAL:P3D
CALSCALE:GREGORIAN
BEGIN:VEVENT
DTSTART:20190920T153000Z
DTEND:20190920T170000Z
X-MICROSOFT-CDO-ALLDAYEVENT:FALSE
SUMMARY:Lunch & Learn: New exosome isolation method and its applications
DESCRIPTION:: Once thought to be merely carriers of unnecessary cell content\, exosomes are in the spotlight of drug delivery research\, diagnostic and new therapy development.
X-ALT-DESC;FMTTYPE=text/html:<span style="font-family:calibri\,sans-serif\;"><span style="font-size:11.0pt\;">: Once thought to be merely carriers of unnecessary cell content\, exosomes are in the spotlight of drug delivery research\, diagnostic and new therapy development.&nbsp\;</span></span>
LOCATION:FUJIFILM Diosynth Cambridge Collaboration Center One Kendall Square\, Binney Street\, Building 400
UID:e.2584.4617
SEQUENCE:3
DTSTAMP:20260424T125855Z
URL:https://business.cambridgechamber.org/events/details/lunch-learn-new-exosome-isolation-method-and-its-applications-4617
END:VEVENT

END:VCALENDAR
