BEGIN:VCALENDAR
VERSION:2.0
PRODID:-//ChamberMaster//Event Calendar 2.0//EN
METHOD:PUBLISH
X-PUBLISHED-TTL:P3D
REFRESH-INTERVAL:P3D
CALSCALE:GREGORIAN
BEGIN:VEVENT
DTSTART:20190925T153000Z
DTEND:20190925T170000Z
X-MICROSOFT-CDO-ALLDAYEVENT:FALSE
SUMMARY:Lunch & Learn: Aseptic Filling for Gene Therapies
DESCRIPTION:Workcells solve long-standing problems with sterility assurance\, containment and process control in aseptic filling. The knowledge developed by FUJIFILM Diosynth Biotechnologies in its implementation and early use of a closed workcell can benefit organizations developing new drug products.
X-ALT-DESC;FMTTYPE=text/html:<span style="font-family:calibri\,sans-serif\;"><span style="font-size:11.0pt\;">Workcells solve long-standing problems with sterility assurance\, containment and process control in aseptic filling. The knowledge developed by FUJIFILM Diosynth Biotechnologies in its implementation and early use of a closed workcell can benefit organizations developing new drug products.&nbsp\;&nbsp\;</span></span>
LOCATION:FUJIFILM Diosynth Cambridge Collaboration Center One Kendall Square\, Binney Street\, Building 400
UID:e.2584.4618
SEQUENCE:3
DTSTAMP:20260424T130240Z
URL:https://business.cambridgechamber.org/events/details/lunch-learn-aseptic-filling-for-gene-therapies-4618
END:VEVENT

END:VCALENDAR
