BEGIN:VCALENDAR
VERSION:2.0
PRODID:-//ChamberMaster//Event Calendar 2.0//EN
METHOD:PUBLISH
X-PUBLISHED-TTL:P3D
REFRESH-INTERVAL:P3D
CALSCALE:GREGORIAN
BEGIN:VEVENT
DTSTART:20190507T133000Z
DTEND:20190507T153000Z
X-MICROSOFT-CDO-ALLDAYEVENT:FALSE
SUMMARY:Local Vendor Fair
DESCRIPTION:Looking to do business with Cambridge's top employers? Interested in learning more about the purchasing practices and contract opportunities at the City of Cambridge\, Harvard\, Lesley\, MIT and other organizations? Save the date and bring your business cards for the City's Local Vendor's Fair. Learn how to do business with these large organizations and connect with purchasing agents interested in learning more about your products and services. Free to all. Refreshments will be provided
X-ALT-DESC;FMTTYPE=text/html:<span style="color:rgb(0\, 0\, 0)\; font-family:myriad-pro\,arial\,helvetica\,sans-serif\; font-size:13.98px">Looking to do business with Cambridge&#39\;s top employers? Interested in learning more about the purchasing practices and contract opportunities at the City of Cambridge\, Harvard\, Lesley\, MIT and other organizations? Save the date and bring your business cards for the City&#39\;s Local Vendor&#39\;s Fair. Learn how to do business with these large organizations and connect with purchasing agents interested in learning more about your products and services. Free to all. Refreshments will be provided</span>
LOCATION:Cambridge City Hall Annex\, 344 Broadway\, 2nd floor
UID:e.2584.4481
SEQUENCE:3
DTSTAMP:20260424T214312Z
URL:https://business.cambridgechamber.org/events/details/local-vendor-fair-4481
END:VEVENT

END:VCALENDAR
