BEGIN:VCALENDAR
VERSION:2.0
PRODID:-//ChamberMaster//Event Calendar 2.0//EN
METHOD:PUBLISH
X-PUBLISHED-TTL:P3D
REFRESH-INTERVAL:P3D
CALSCALE:GREGORIAN
BEGIN:VEVENT
DTSTART:20200209T200000Z
DTEND:20200209T220000Z
X-MICROSOFT-CDO-ALLDAYEVENT:FALSE
SUMMARY:Let Your Heart Beat for Cambridge Camping
DESCRIPTION:Have fun AND give the gift of summer camp!  Order your tickets now for a great event that benefits the Cambridge kids from under-resourced circumstances\, we serve at Cambridge Camping! Our goal is to raise $6\,000 so we can pay for 4 kids to go to camp for the full 5 week 2020 session. \n \n\nThis is such a super fun and easy to participate in event. Register for a Sculpt\, Spin\, or Gentle Yoga class. No prior skills or abilities required. Men are welcome to all the classes (even thought it's a women's gym - they love having men join this event). \n\n \n\nGet a group together or come solo - kids\, 12 and older\, colleagues\, spouses\, partners\, friends...and the champagne and chocolate reception is a festive way to wind down after the work out. Get yourself up off the couch on a cold Sunday afternoon and feel good! \n\n \n\nHealthworks\, Porter Square\, 3pm Sunday February 9th. Easy parking\, you'll feel great after the work out\, chocolate/champagne and chatting is a great way to relax and ease into the end of the weekend and the beginning of the week!\n\n\n\nhttp://cambridgecamping.org/valentine
X-ALT-DESC;FMTTYPE=text/html:<span style="color:rgb(0\,0\,0)\; font-family:arial\,helvetica\,sans-serif">Have fun</span><span style="color:rgb(0\,0\,0)\; font-family:arial\,helvetica\,sans-serif">&nbsp\;</span><strong>AND</strong><span style="color:rgb(0\,0\,0)\; font-family:arial\,helvetica\,sans-serif">&nbsp\;</span>give the gift of summer camp!&nbsp\; Order your tickets<strong> now</strong> for a great event that benefits the Cambridge kids from under-resourced circumstances\, we serve at Cambridge Camping! Our goal is to raise $6\,000 so we can pay for 4 kids to go to camp for the full 5 week 2020 session.&nbsp\;\n<div>&nbsp\;</div>\n\n<div>This is such a&nbsp\;<strong>super fun&nbsp\;</strong>and easy to participate in event. Register for a <strong><em>Sculpt\, Spin\, or Gentle Yoga&nbsp\;</em></strong>class.&nbsp\;<strong>No prior skills or abilities required.</strong>&nbsp\;Men are welcome to all the classes (even thought it&#39\;s a women&#39\;s gym - they love having men join this event).&nbsp\;</div>\n\n<div>&nbsp\;</div>\n\n<div>Get a group together or come solo - kids\, 12 and older\, colleagues\, spouses\, partners\, friends...and the champagne and chocolate reception is a festive way to wind down after the work out. Get yourself up off the couch on a cold Sunday afternoon and feel good!&nbsp\;</div>\n\n<div>&nbsp\;</div>\n\n<div><strong>Healthworks\, Porter Square\, 3pm Sunday February 9th. </strong>Easy parking\, you&#39\;ll feel great after the work out\, chocolate/champagne and chatting is a great way to relax and ease into the end of the weekend and the beginning of the week!</div>\n\n<div><br />\n<a href="http://cambridgecamping.org/valentine" target="_blank">http://cambridgecamping.org/valentine</a></div>\n
LOCATION:Healthworks Gym\, White Street\, Porter Square Cambridge
UID:e.2584.4658
SEQUENCE:3
DTSTAMP:20260424T053036Z
URL:https://business.cambridgechamber.org/events/details/let-your-heart-beat-for-cambridge-camping-02-09-2020-4658
END:VEVENT

END:VCALENDAR
