BEGIN:VCALENDAR
VERSION:2.0
PRODID:-//ChamberMaster//Event Calendar 2.0//EN
METHOD:PUBLISH
X-PUBLISHED-TTL:P3D
REFRESH-INTERVAL:P3D
CALSCALE:GREGORIAN
BEGIN:VEVENT
DTSTART:20200216T003000Z
DTEND:20200216T014500Z
X-MICROSOFT-CDO-ALLDAYEVENT:FALSE
SUMMARY:Lauren Henderson Valentine's Weekend Celebration
DESCRIPTION:Uncovering the layers of her diverse background in English and Spanish\, Lauren Henderson's compositions paint stories. Henderson's Panamanian\, Montserratian\, and vast Caribbean roots interplay with her North American upbringing. Her eclectic vocal influences spread across genres producing a distinct yet versatile sound. Lauren's original music was recently featured in The Drowning\, starring Julia Stiles\, Avan Jogia\, Josh Charles and Tracie Thoms. Appealing to an international audience\, Henderson has performed in France\, Italy\, Belgium\, Spain\, Germany\, Russia\, Mexico and South Africa\, living up to her growing reputation as a "vibrant new star singer" - Downbeat Magazine. Breaking the Jazz Week Charts - Top 25 for six consecutive weeks and the Year End Jazz Week Top 100 for 2018\, Henderson's current release\, Alma Oscura\, is 22 on the Jazz Week Charts.
X-ALT-DESC;FMTTYPE=text/html:<span style="font-family:museo slab\,sans-serif\; font-size:13px">Uncovering the layers of her diverse background in English and Spanish\, Lauren Henderson&#39\;s compositions paint stories. Henderson&#39\;s Panamanian\, Montserratian\, and vast Caribbean roots interplay with her North American upbringing. Her eclectic vocal influences spread across genres producing a distinct yet versatile sound. Lauren&#39\;s original music was recently featured in The Drowning\, starring Julia Stiles\, Avan Jogia\, Josh Charles and Tracie Thoms. Appealing to an international audience\, Henderson has performed in France\, Italy\, Belgium\, Spain\, Germany\, Russia\, Mexico and South Africa\, living up to her growing reputation as a &quot\;vibrant new star singer&quot\; - Downbeat Magazine. Breaking the Jazz Week Charts - Top 25 for six consecutive weeks and the Year End Jazz Week Top 100 for 2018\, Henderson&#39\;s current release\, Alma Oscura\, is 22 on the Jazz Week Charts.</span>
LOCATION:The Regattabar at The Charles Hotel
UID:e.2584.4713
SEQUENCE:3
DTSTAMP:20260424T050854Z
URL:https://business.cambridgechamber.org/events/details/lauren-henderson-valentine-s-weekend-celebration-4713
END:VEVENT

END:VCALENDAR
