BEGIN:VCALENDAR
VERSION:2.0
PRODID:-//ChamberMaster//Event Calendar 2.0//EN
METHOD:PUBLISH
X-PUBLISHED-TTL:P3D
REFRESH-INTERVAL:P3D
CALSCALE:GREGORIAN
BEGIN:VEVENT
DTSTART:20190404T233000Z
DTEND:20190405T010000Z
X-MICROSOFT-CDO-ALLDAYEVENT:FALSE
SUMMARY:Laszlo Gardony Trio
DESCRIPTION:Hungarian-born Laszlo Gardony has delivered soulful improvisations and compositions to great critical acclaim in 27 countries. Winner of the Great American Jazz Piano Competition\, Gardony has been called "a pianist worthy of praise within the highest pantheon of performers" by Jazz Review and "a great pianist" by Dave Brubeck. He has released 12 albums\, including his latest solo piano CD\, "Serious Play" and his sextet's live album\, "Life In Real Time" both of which have been named by the Boston Globe as one of the Top 10 Jazz Albums Of The Year in 2015 and 2017 respectively. He has been featured with the Boston Pops\, the Utah Symphony and The Smithsonian Institute's "Beyond Category" Traveling Duke Ellington Exhibit. A Bostonian for over two decades\, he currently serves as a Professor of Piano at Berklee College of Music.
X-ALT-DESC;FMTTYPE=text/html:Hungarian-born Laszlo Gardony has delivered soulful improvisations and compositions to great critical acclaim in 27 countries. Winner of the Great American Jazz Piano Competition\, Gardony has been called &quot\;a pianist worthy of praise within the highest pantheon of performers&quot\; by Jazz Review and &quot\;a great pianist&quot\; by Dave Brubeck. He has released 12 albums\, including his latest solo piano CD\, &quot\;Serious Play&quot\; and his sextet&#39\;s live album\, &quot\;Life In Real Time&quot\; both of which have been named by the Boston Globe as one of the Top 10 Jazz Albums Of The Year in 2015 and 2017 respectively. He has been featured with the Boston Pops\, the Utah Symphony and The Smithsonian Institute&#39\;s &quot\;Beyond Category&quot\; Traveling Duke Ellington Exhibit. A Bostonian for over two decades\, he currently serves as a Professor of Piano at Berklee College of Music.
LOCATION:The Regattabar at The Charles Hotel
UID:e.2584.3848
SEQUENCE:3
DTSTAMP:20260424T233501Z
URL:https://business.cambridgechamber.org/events/details/laszlo-gardony-trio-3848
END:VEVENT

END:VCALENDAR
