BEGIN:VCALENDAR
VERSION:2.0
PRODID:-//ChamberMaster//Event Calendar 2.0//EN
METHOD:PUBLISH
X-PUBLISHED-TTL:P3D
REFRESH-INTERVAL:P3D
CALSCALE:GREGORIAN
BEGIN:VEVENT
DTSTART:20190410T233000Z
DTEND:20190411T010000Z
X-MICROSOFT-CDO-ALLDAYEVENT:FALSE
SUMMARY:Kurt Rosenwinkel Standards Trio feat. Dario Deidda & Greg Hutchinson
DESCRIPTION:Kurt Rosenwinkel (born October 28\, 1970) is an American jazz guitarist and keyboardist who came to prominence in the 1990s. With a career spanning almost twenty-five years\, collaborating with dynamic peers like Brad Mehldau\, Brian Blade\, Mark Turner\, Joshua Redman\, Chris Potter\; and esteemed jazz elders like Joe Henderson\, Paul Motian and Gary Burton\, Rosenwinkel's indelible mark in music is the consummation of being steeped in the rich and deep traditions of jazz\, springing off of the shoulders of such vital underpinnings to elevate his own art to new heights\, evolving the language in a way no other guitarist has since his arrival.
X-ALT-DESC;FMTTYPE=text/html:Kurt Rosenwinkel (born October 28\, 1970) is an American jazz guitarist and keyboardist who came to prominence in the 1990s. With a career spanning almost twenty-five years\, collaborating with dynamic peers like Brad Mehldau\, Brian Blade\, Mark Turner\, Joshua Redman\, Chris Potter\; and esteemed jazz elders like Joe Henderson\, Paul Motian and Gary Burton\, Rosenwinkel&#39\;s indelible mark in music is the consummation of being steeped in the rich and deep traditions of jazz\, springing off of the shoulders of such vital underpinnings to elevate his own art to new heights\, evolving the language in a way no other guitarist has since his arrival.
LOCATION:The Regattabar at The Charles Hotel
UID:e.2584.3756
SEQUENCE:3
DTSTAMP:20260424T214502Z
URL:https://business.cambridgechamber.org/events/details/kurt-rosenwinkel-standards-trio-feat-dario-deidda-greg-hutchinson-3756
END:VEVENT

END:VCALENDAR
