BEGIN:VCALENDAR
VERSION:2.0
PRODID:-//ChamberMaster//Event Calendar 2.0//EN
METHOD:PUBLISH
X-PUBLISHED-TTL:P3D
REFRESH-INTERVAL:P3D
CALSCALE:GREGORIAN
BEGIN:VEVENT
DTSTART:20200424T233000Z
DTEND:20200425T004500Z
X-MICROSOFT-CDO-ALLDAYEVENT:FALSE
SUMMARY:Kenny Barron – Dave Holland Trio
DESCRIPTION:KENNY BARRON\n\nKenny Barron's unmatched ability to mesmerize audiences with his elegant playing\, sensitive melodies and infectious rhythms is what inspired The Los Angles Times to name him "one of the top jazz pianists in the world" and Jazz Weekly to call him "The most lyrical piano player of our time." Whether he is playing solo\, trio or quintet\, Kenny Barron is recognized the world over as a master of performance and composition.\n\n\n\n\n\nDAVE HOLLAND\n\nOver the course of a nearly five-decade career\, bassist/composer Dave Holland has never stopped evolving\, reinventing his concept and approach with each new project while constantly honing his instantly identifiable voice. From the electric whirlwind of Miles Davis' Bitches Brew-era band to the elegant flamenco of his collaboration with Spanish guitar legend Pepe Habichuela\; accompanying the great vocalist Betty Carter in her last years to forging a new sound with the pioneering avant-garde quartet Circle alongside Chick Corea\, Anthony Braxton\, and Barry Altschul\; standing alongside legends like Stan Getz\, Hank Jones\, Roy Haynes\, and Sam Rivers to providing early opportunities to now-leading players like Chris Potter\, Kevin and Robin Eubanks\, or Steve Coleman\; Dave Holland has been at the forefront of jazz in many of its forms since his earliest days.
X-ALT-DESC;FMTTYPE=text/html:<span style="font-family:museo slab\,sans-serif\; font-size:13px">KENNY BARRON</span><br />\n<span style="font-family:museo slab\,sans-serif\; font-size:13px">Kenny Barron&#39\;s unmatched ability to mesmerize audiences with his elegant playing\, sensitive melodies and infectious rhythms is what inspired The Los Angles Times to name him &quot\;one of the top jazz pianists in the world&quot\; and Jazz Weekly to call him &quot\;The most lyrical piano player of our time.&quot\; Whether he is playing solo\, trio or quintet\, Kenny Barron is recognized the world over as a master of performance and composition.</span><br />\n<br />\n<br />\n<span style="font-family:museo slab\,sans-serif\; font-size:13px">DAVE HOLLAND</span><br />\n<span style="font-family:museo slab\,sans-serif\; font-size:13px">Over the course of a nearly five-decade career\, bassist/composer Dave Holland has never stopped evolving\, reinventing his concept and approach with each new project while constantly honing his instantly identifiable voice. From the electric whirlwind of Miles Davis&#39\; Bitches Brew-era band to the elegant flamenco of his collaboration with Spanish guitar legend Pepe Habichuela\; accompanying the great vocalist Betty Carter in her last years to forging a new sound with the pioneering avant-garde quartet Circle alongside Chick Corea\, Anthony Braxton\, and Barry Altschul\; standing alongside legends like Stan Getz\, Hank Jones\, Roy Haynes\, and Sam Rivers to providing early opportunities to now-leading players like Chris Potter\, Kevin and Robin Eubanks\, or Steve Coleman\; Dave Holland has been at the forefront of jazz in many of its forms since his earliest days.</span>
LOCATION:The Regattabar at The Charles Hotel
UID:e.2584.4731
SEQUENCE:3
DTSTAMP:20260424T014631Z
URL:https://business.cambridgechamber.org/events/details/kenny-barron-dave-holland-trio-04-24-2020-4731
END:VEVENT

END:VCALENDAR
