BEGIN:VCALENDAR
VERSION:2.0
PRODID:-//ChamberMaster//Event Calendar 2.0//EN
METHOD:PUBLISH
X-PUBLISHED-TTL:P3D
REFRESH-INTERVAL:P3D
CALSCALE:GREGORIAN
BEGIN:VEVENT
DTSTART:20190425T233000Z
DTEND:20190426T010000Z
X-MICROSOFT-CDO-ALLDAYEVENT:FALSE
SUMMARY:Kendrick Scott Oracle
DESCRIPTION:"Kendrick Scott has become the Art Blakey\, Elvin Jones\, and Tony Williams of his generation\," says the renowned trumpeter and bandleader Terence Blanchard of his longtime drummer who makes his own Blue Note debut with the release of a remarkable new album\, We Are The Drum. "He's a brilliant mind bringing innovation to the music at the same time as creating a safe place for young talent to develop and grow."\n\n\n\nThat kind of musical apprenticeship is key to the development of young jazz artists as Blanchard well knows having himself spent pivotal years with Art Blakey's Jazz Messengers. In the decade that Scott occupied the drum throne in Blanchard's band\, he had the opportunity to learn first-hand from an established master who gave Scott the space to find his own voice both on his instrument and as a composer. In turn\, Scott took that experience and founded one of the premiere new ensembles in jazz: Kendrick Scott Oracle.
X-ALT-DESC;FMTTYPE=text/html:&quot\;Kendrick Scott has become the Art Blakey\, Elvin Jones\, and Tony Williams of his generation\,&quot\; says the renowned trumpeter and bandleader Terence Blanchard of his longtime drummer who makes his own Blue Note debut with the release of a remarkable new album\, We Are The Drum. &quot\;He&#39\;s a brilliant mind bringing innovation to the music at the same time as creating a safe place for young talent to develop and grow.&quot\;<br />\n<br />\nThat kind of musical apprenticeship is key to the development of young jazz artists as Blanchard well knows having himself spent pivotal years with Art Blakey&#39\;s Jazz Messengers. In the decade that Scott occupied the drum throne in Blanchard&#39\;s band\, he had the opportunity to learn first-hand from an established master who gave Scott the space to find his own voice both on his instrument and as a composer. In turn\, Scott took that experience and founded one of the premiere new ensembles in jazz: Kendrick Scott Oracle.
LOCATION:The Regattabar at The Charles Hotel
UID:e.2584.3829
SEQUENCE:3
DTSTAMP:20260424T214042Z
URL:https://business.cambridgechamber.org/events/details/kendrick-scott-oracle-3829
END:VEVENT

END:VCALENDAR
