BEGIN:VCALENDAR
VERSION:2.0
PRODID:-//ChamberMaster//Event Calendar 2.0//EN
METHOD:PUBLISH
X-PUBLISHED-TTL:P3D
REFRESH-INTERVAL:P3D
CALSCALE:GREGORIAN
BEGIN:VEVENT
DTSTART:20200131T030000Z
DTEND:20200131T041500Z
X-MICROSOFT-CDO-ALLDAYEVENT:FALSE
SUMMARY:KCL (Krantz Carlock Lefebvre)
DESCRIPTION:KCL\, the iconic\, genre-bending powerhouse trio led by visionary guitarist Wayne Krantz and featuring drummer Keith Carlock (Steely Dan\, Sting\, John Mayer) and bassist Tim Lefebvre (Tedeschi Trucks Band David Bowie)\, held a Thursday-night residency at NYC's 55 Bar throughout the first decade of the new millennium. Cutting live recordings from the club and posting them online in the early days of the internet and touring only sporadically\, KCL developed a thoroughly original style of interactive group improvisation inspired in part by the great Miles Davis Quintet of the 60s\, but played out in spontaneously generated contexts of heavy funk\, rock and electronica instead of straight-ahead swing.\n\n\n\nAs other instrumental bands of the day dabbled in derivative fusion and retro-jazz\, KCL became an underground phenomenon\, cultivating an international following of devoted fans of every stripe looking for an alternative creative music that served the mind\, body and spirit. Relentlessly grooving\, always innovative\, never complacent-KCL made contemporary music that resonated beyond category.\n\n\n\nOther sideman obligations sidelined the band soon after their Abstract Logix release\, "Krantz Carlock Lefebvre\," in 2010\, but their reputation continued to expand globally through fan circulation of the band's many live videos and recordings. Now\, in 2020\, KCL re-ignites to tour with incendiary shows throughout the USA\, Europe and Asia.
X-ALT-DESC;FMTTYPE=text/html:<span style="font-family:museo slab\,sans-serif\; font-size:13px">KCL\, the iconic\, genre-bending powerhouse trio led by visionary guitarist Wayne Krantz and featuring drummer Keith Carlock (Steely Dan\, Sting\, John Mayer) and bassist Tim Lefebvre (Tedeschi Trucks Band David Bowie)\, held a Thursday-night residency at NYC&#39\;s 55 Bar throughout the first decade of the new millennium. Cutting live recordings from the club and posting them online in the early days of the internet and touring only sporadically\, KCL developed a thoroughly original style of interactive group improvisation inspired in part by the great Miles Davis Quintet of the 60s\, but played out in spontaneously generated contexts of heavy funk\, rock and electronica instead of straight-ahead swing.</span><br />\n<br />\n<span style="font-family:museo slab\,sans-serif\; font-size:13px">As other instrumental bands of the day dabbled in derivative fusion and retro-jazz\, KCL became an underground phenomenon\, cultivating an international following of devoted fans of every stripe looking for an alternative creative music that served the mind\, body and spirit. Relentlessly grooving\, always innovative\, never complacent-KCL made contemporary music that resonated beyond category.</span><br />\n<br />\n<span style="font-family:museo slab\,sans-serif\; font-size:13px">Other sideman obligations sidelined the band soon after their Abstract Logix release\, &quot\;Krantz Carlock Lefebvre\,&quot\; in 2010\, but their reputation continued to expand globally through fan circulation of the band&#39\;s many live videos and recordings. Now\, in 2020\, KCL re-ignites to tour with incendiary shows throughout the USA\, Europe and Asia.</span>
LOCATION:The Regattabar at The Charles Hotel
UID:e.2584.4706
SEQUENCE:3
DTSTAMP:20260424T064733Z
URL:https://business.cambridgechamber.org/events/details/kcl-krantz-carlock-lefebvre-4706
END:VEVENT

END:VCALENDAR
