BEGIN:VCALENDAR
VERSION:2.0
PRODID:-//ChamberMaster//Event Calendar 2.0//EN
METHOD:PUBLISH
X-PUBLISHED-TTL:P3D
REFRESH-INTERVAL:P3D
CALSCALE:GREGORIAN
BEGIN:VEVENT
DTSTART:20191012T233000Z
DTEND:20191013T020000Z
X-MICROSOFT-CDO-ALLDAYEVENT:FALSE
SUMMARY:John Scofield Solo Guitar
DESCRIPTION:Aside from being one of the principal innovators of modern jazz guitar\, John Scofield is a creative artist of an even rarer sort: a stylistic chameleon who has forged a consistent\, rock-solid aesthetic identity. A triple Grammy award winning artist with more than 40 recordings to his credit\, Scofield has expressed himself in the vernacular of bebop\, blues\, jazz-funk\, organ jazz\, acoustic chamber jazz\, electronically tinged groove music\, jam band style and orchestral ensembles with ease and enthusiasm. Now he adds yet another credit to his resume: solo guitarist.
X-ALT-DESC;FMTTYPE=text/html:Aside from being one of the principal innovators of modern jazz guitar\, John Scofield is a creative artist of an even rarer sort: a stylistic chameleon who has forged a consistent\, rock-solid aesthetic identity. A triple Grammy award winning artist with more than 40 recordings to his credit\, Scofield has expressed himself in the vernacular of bebop\, blues\, jazz-funk\, organ jazz\, acoustic chamber jazz\, electronically tinged groove music\, jam band style and orchestral ensembles with ease and enthusiasm. Now he adds yet another credit to his resume: solo guitarist.
LOCATION:Regattabar
UID:e.2584.4647
SEQUENCE:3
DTSTAMP:20260424T112341Z
URL:https://business.cambridgechamber.org/events/details/john-scofield-solo-guitar-4647
END:VEVENT

END:VCALENDAR
