BEGIN:VCALENDAR
VERSION:2.0
PRODID:-//ChamberMaster//Event Calendar 2.0//EN
METHOD:PUBLISH
X-PUBLISHED-TTL:P3D
REFRESH-INTERVAL:P3D
CALSCALE:GREGORIAN
BEGIN:VEVENT
DTSTART:20200221T003000Z
DTEND:20200221T014500Z
X-MICROSOFT-CDO-ALLDAYEVENT:FALSE
SUMMARY:John Jorgenson Quintet
DESCRIPTION:Music virtuoso John Jorgenson\, known for his exquisite guitar licks and world-class musicianship\, has collaborated with the likes of Elton John\, Luciano Pavarotti\, Bonnie Raitt and Bob Dylan. In addition to acoustic and electric guitars\, Jorgenson is also regularly featured on mandolin\, saxophone\, clarinet\, bouzouki\, pedal steel\, and as a vocalist. He has garnered recognition for contributing to GRAMMY -winning and numerous platinum-selling albums.\n\n\n\nJorgenson's dynamic Quintet and its authentic gypsy jazz--the string-driven swing created by Jean "Django" Reinhardt and Stephane Grappelli in 1930s Paris--is recognized internationally. One of the elite gypsy jazz players in the world\, Jorgenson portrayed Django Reinhardt in the Hollywood feature film Head in the Clouds and his quintet has been hailed the "U.S. ambassadors of gypsy jazz."\n\n\n\nThe John Jorgenson Quintet is comprised of five distinguished musicians: Jorgenson (acoustic guitar\, bouzouki\, clarinet\, vocals)\, Casey Driscoll (jazz violin)\, Rory Hoffman (guitar/piano/accordion)\, Simon Planting (bass)\, and Rick Reed (percussion).
X-ALT-DESC;FMTTYPE=text/html:<span style="font-family:museo slab\,sans-serif\; font-size:13px">Music virtuoso John Jorgenson\, known for his exquisite guitar licks and world-class musicianship\, has collaborated with the likes of Elton John\, Luciano Pavarotti\, Bonnie Raitt and Bob Dylan. In addition to acoustic and electric guitars\, Jorgenson is also regularly featured on mandolin\, saxophone\, clarinet\, bouzouki\, pedal steel\, and as a vocalist. He has garnered recognition for contributing to GRAMMY&reg\;-winning and numerous platinum-selling albums.</span><br />\n<br />\n<span style="font-family:museo slab\,sans-serif\; font-size:13px">Jorgenson&#39\;s dynamic Quintet and its authentic gypsy jazz--the string-driven swing created by Jean &quot\;Django&quot\; Reinhardt and Stephane Grappelli in 1930s Paris--is recognized internationally. One of the elite gypsy jazz players in the world\, Jorgenson portrayed Django Reinhardt in the Hollywood feature film Head in the Clouds and his quintet has been hailed the &quot\;U.S. ambassadors of gypsy jazz.&quot\;</span><br />\n<br />\n<span style="font-family:museo slab\,sans-serif\; font-size:13px">The John Jorgenson Quintet is comprised of five distinguished musicians: Jorgenson (acoustic guitar\, bouzouki\, clarinet\, vocals)\, Casey Driscoll (jazz violin)\, Rory Hoffman (guitar/piano/accordion)\, Simon Planting (bass)\, and Rick Reed (percussion).</span>
LOCATION:The Regattabar at The Charles Hotel
UID:e.2584.4714
SEQUENCE:3
DTSTAMP:20260424T050554Z
URL:https://business.cambridgechamber.org/events/details/john-jorgenson-quintet-4714
END:VEVENT

END:VCALENDAR
