BEGIN:VCALENDAR
VERSION:2.0
PRODID:-//ChamberMaster//Event Calendar 2.0//EN
METHOD:PUBLISH
X-PUBLISHED-TTL:P3D
REFRESH-INTERVAL:P3D
CALSCALE:GREGORIAN
BEGIN:VEVENT
DTSTART:20190625T233000Z
DTEND:20190626T013000Z
X-MICROSOFT-CDO-ALLDAYEVENT:FALSE
SUMMARY:Jimmy Tingle's 20/20 Vision
DESCRIPTION:Jimmy Tingle's 20/20 Vision is a funny\, thought-provoking\, and hopeful look at contemporary life and politics through the experience of comedian\, commentator\, and 2018 candidate for Lieutenant Governor of Massachusetts\, Jimmy Tingle. The show will help answer the question "Why would a comedian run for office?" as it illuminates the 2018 campaign of Jimmy Tingle with passion\, purpose\, and a sense of humor. As the nation looks ahead to the upcoming presidential campaign of 2020\, Jimmy Tingle's 20/20 Vision will entertain\, enlighten and challenge the audience to move beyond the current politics of presidential tweets\, sound bites\, and the nightly news cycle and into the realm of long-term thinking and life affirming possibility. Through comedy\, commentary and audience Q&A\, Jimmy aspires to contribute to the cultural conversation in a positive\, hopeful and funny way as America strives to create\, in the words of Abraham Lincoln\, "a more perfect union."
X-ALT-DESC;FMTTYPE=text/html:Jimmy Tingle&rsquo\;s 20/20 Vision is a funny\, thought-provoking\, and hopeful look at contemporary life and politics through the experience of comedian\, commentator\, and 2018 candidate for Lieutenant Governor of Massachusetts\, Jimmy Tingle. The show will help answer the question &ldquo\;Why would a comedian run for office?&rdquo\; as it illuminates the 2018 campaign of Jimmy Tingle with passion\, purpose\, and a sense of humor. As the nation looks ahead to the upcoming presidential campaign of 2020\, Jimmy Tingle&rsquo\;s 20/20 Vision will entertain\, enlighten and challenge the audience to move beyond the current politics of presidential tweets\, sound bites\, and the nightly news cycle and into the realm of long-term thinking and life affirming possibility. Through comedy\, commentary and audience Q&amp\;A\, Jimmy aspires to contribute to the cultural conversation in a positive\, hopeful and funny way as America strives to create\, in the words of Abraham Lincoln\, &quot\;a more perfect union.&quot\;
LOCATION:OBERON 2 Arrow Street Cambridge\, MA
UID:e.2584.4573
SEQUENCE:3
DTSTAMP:20260424T182154Z
URL:https://business.cambridgechamber.org/events/details/jimmy-tingle-s-20-20-vision-4573
END:VEVENT

END:VCALENDAR
