BEGIN:VCALENDAR
VERSION:2.0
PRODID:-//ChamberMaster//Event Calendar 2.0//EN
METHOD:PUBLISH
X-PUBLISHED-TTL:P3D
REFRESH-INTERVAL:P3D
CALSCALE:GREGORIAN
BEGIN:VEVENT
DTSTART:20191023T233000Z
DTEND:20191024T020000Z
X-MICROSOFT-CDO-ALLDAYEVENT:FALSE
SUMMARY:Jason Yeager Album Release
DESCRIPTION:New York based pianist/composer Jason Yeager returns to the Regattabar to celebrate the release of his new album\, New Songs of Resistance (Outside in Music) with an all-star cast of musicians.
X-ALT-DESC;FMTTYPE=text/html:New York based pianist/composer Jason Yeager returns to the Regattabar to celebrate the release of his new album\, New Songs of Resistance (Outside in Music) with an all-star cast of musicians.
LOCATION:Regattabar
UID:e.2584.4649
SEQUENCE:3
DTSTAMP:20260424T112427Z
URL:https://business.cambridgechamber.org/events/details/jason-yeager-album-release-4649
END:VEVENT

END:VCALENDAR
