BEGIN:VCALENDAR
VERSION:2.0
PRODID:-//ChamberMaster//Event Calendar 2.0//EN
METHOD:PUBLISH
X-PUBLISHED-TTL:P3D
REFRESH-INTERVAL:P3D
CALSCALE:GREGORIAN
BEGIN:VEVENT
DTSTART:20190521T210000Z
DTEND:20190522T010000Z
X-MICROSOFT-CDO-ALLDAYEVENT:FALSE
SUMMARY:Arts & Design Night - International School of Boston - Middle & Upper School
DESCRIPTION:Parents\, students\, faculty and friends are all invited to the exhibit of ISB Middle & Upper School arts and design projects\, theatre\, poetry\, literature\, model-making\, music\, robotics\, design\, and photography. Don't miss the buffet and listen to the sounds of the Middle and Upper School Rock Bands. Enjoy the vibrancy of discovery\, creativity\, arts\, collaboration\, and fun!
X-ALT-DESC;FMTTYPE=text/html:<p><span style="color:rgba(0\, 0\, 0\, 0.9)\; font-family:-apple-system\,system-ui\,blinkmacsystemfont\,segoe ui\,roboto\,helvetica neue\,fira sans\,ubuntu\,oxygen\,oxygen sans\,cantarell\,droid sans\,apple color emoji\,segoe ui emoji\,segoe ui emoji\,segoe ui symbol\,lucida grande\,helvetica\,arial\,sans-serif\; font-size:14px">Parents\, students\, faculty and friends are all invited to the exhibit of ISB Middle &amp\; Upper School arts and design projects\, theatre\, poetry\, literature\, model-making\, music\, robotics\, design\, and photography. Don&#39\;t miss the buffet and listen to the sounds of the Middle and Upper School Rock Bands. Enjoy the vibrancy of discovery\, creativity\, arts\, collaboration\, and fun!</span></p>\n
LOCATION:International School of Boston Gymnasium 45 Matignon Road Cambridge\, MA 02140 617-499-1451
UID:e.2584.4500
SEQUENCE:3
DTSTAMP:20260424T214312Z
URL:https://business.cambridgechamber.org/events/details/isb-arts-design-night-middle-upper-school-4500
END:VEVENT

END:VCALENDAR
