BEGIN:VCALENDAR
VERSION:2.0
PRODID:-//ChamberMaster//Event Calendar 2.0//EN
METHOD:PUBLISH
X-PUBLISHED-TTL:P3D
REFRESH-INTERVAL:P3D
CALSCALE:GREGORIAN
BEGIN:VEVENT
DTSTART:20190927T140000Z
DTEND:20190927T170000Z
X-MICROSOFT-CDO-ALLDAYEVENT:FALSE
SUMMARY:Introduction to Search Engine Optimization
DESCRIPTION:Google's search engine processes more than 3.5 billion queries a day.   Knowing how to get your web site to the top of the search engine results is critical your company's success.  This introductory course offers the basics of Search Engine Optimization.   It will show you how search engines work and help you understand how to drive more organic search traffic to your company's web site.  It will cover the underlying principles of indexation and provide the foundation needed to assist in getting any web property: web site\, ecommerce site\, blog\, and even online profile listings (like Linkedin profiles) visible and searchable in the search engines.\n\n\n\nHere's just some of what you'll learn:\n\n	How Search Engines work and the underlying principles of indexation\n	The Why's and How's behind On-Page and Off Page Ranking factors\n	An introduction to Content Marketing and why it is the most powerful form of link-building techniques\n	Link-building and other techniques that provide citation and co-occurrence\n	A Technical SEO primer on the importance of using Structured Data Mark Up\, Rich Snippets\, Mobile Indexing\, Robot Control Syntax\, Site Maps\, Pagination and more\n\n \n\n\n	\n		\n			\n			https://pdcboston.org/courses/introduction-to-search-engine-optimization\n			\n		\n	\n\nWho Should Attend? Search engine optimization principals and techniques are crucial for today's information and business professionals\, for entrepreneurs\, web site developers\, traditional marketers or anyone interested in staying up-to-date on the most powerful and pervasive area of digital marketing used in the world today.
X-ALT-DESC;FMTTYPE=text/html:<span style="font-size:12.0pt">Google&rsquo\;s search engine processes more than 3.5 billion queries a day. &nbsp\;&nbsp\;Knowing how to get your web site to the top of the search engine results is critical your company&rsquo\;s success. &nbsp\;This introductory course offers the basics of Search Engine Optimization.&nbsp\;&nbsp\;&nbsp\;It will show you how search engines work and help you understand how to drive more organic search traffic to your company&rsquo\;s web site. &nbsp\;It will cover the underlying principles of indexation and provide the foundation needed to assist in getting any web property: web site\, ecommerce site\, blog\, and even online profile listings (like Linkedin profiles) visible and searchable in the search engines.</span><br />\n<br />\n<strong><span style="color:#CC3300"><span style="font-size:12.0pt">Here&rsquo\;s just some of what you&rsquo\;ll learn:</span></span></strong>\n<ul>\n	<li>How Search Engines work and the underlying principles of indexation</li>\n	<li>The Why&rsquo\;s and How&rsquo\;s behind On-Page and Off Page Ranking factors</li>\n	<li>An introduction to Content Marketing and why it is the most powerful form of link-building techniques</li>\n	<li>Link-building and other techniques that provide citation and co-occurrence</li>\n	<li>A Technical SEO primer on the importance of using Structured Data Mark Up\, Rich Snippets\, Mobile Indexing\, Robot Control Syntax\, Site Maps\, Pagination and more</li>\n</ul>\n&nbsp\;\n\n<table cellpadding="0" cellspacing="0" style="width:100%">\n	<tbody>\n		<tr>\n			<td>\n			<div><span style="color:#0070C0"><span style="font-family:times new roman\,serif"><span style="font-size:12.0pt">https://pdcboston.org/courses/introduction-to-search-engine-optimization</span></span></span></div>\n			</td>\n		</tr>\n	</tbody>\n</table>\n<strong><span style="color:#CC3300">Who Should Attend? </span></strong>Search engine optimization principals and techniques are crucial for today&rsquo\;s information and business professionals\, for entrepreneurs\, web site developers\, traditional marketers or anyone interested in staying up-to-date on the most powerful and pervasive area of digital marketing used in the world today.<br />\n&nbsp\;
LOCATION:WHERE: MASSHIRE Metro North Career Center\, Cambridge\, MA 186 Alewife Brook Parkway\, 3rd fl.\, in the Fresh Pond Mall. Free Parking.
UID:e.2584.4637
SEQUENCE:3
DTSTAMP:20260424T125812Z
URL:https://business.cambridgechamber.org/events/details/introduction-to-search-engine-optimization-4637
END:VEVENT

END:VCALENDAR
