BEGIN:VCALENDAR
VERSION:2.0
PRODID:-//ChamberMaster//Event Calendar 2.0//EN
METHOD:PUBLISH
X-PUBLISHED-TTL:P3D
REFRESH-INTERVAL:P3D
CALSCALE:GREGORIAN
BEGIN:VEVENT
DTSTART:20191010T230000Z
DTEND:20191011T010000Z
X-MICROSOFT-CDO-ALLDAYEVENT:FALSE
SUMMARY:International School of Boston - Upper School Information Evening
DESCRIPTION:ISB students learn through a distinctive bilingual curriculum rooted in the best of French and American academic traditions. With a mix of local and international student body and faculty\, ISB provides a thriving intellectual and diverse learning environment.\n\n\n\nLearn about the Upper School programs\, the International and the French Baccalaureates (curriculum\, classes\, and clubs). Open to parents and students.\n\nThe International School of Boston (ISB) is an independent\, non-profit\, PK -12 French-English bilingual and international school located in Cambridge\, Massachusetts\, in one of the most vibrant metropolitan areas in the United States. As a world-class\, accredited academic institution\, ISB places the development of the bilingual brain at the heart of its mission. ISB students graduate with an American high school diploma and choose between two internationally renowned diplomas\, the French or the International Baccalaureate\, giving them the opportunity to thrive at leading universities in the United States\, France\, and around the world. Offering a rich experience with rigorous programs\, ISB prepares its students for a lifetime of learning and service. Visit www.isbos.org.\n\nClick here to register.
X-ALT-DESC;FMTTYPE=text/html:<p><span style="font-size:14px"><span style="font-family:arial\,helvetica\,sans-serif">ISB students learn through a distinctive bilingual curriculum rooted in the best of French and American academic traditions. With a mix of local and international student body and faculty\, ISB provides a thriving intellectual and diverse learning environment.<br />\n<br />\nLearn about the Upper School programs\, the International and the French Baccalaureates (curriculum\, classes\, and clubs). Open to parents and students.</span></span></p>\n\n<p><span style="font-size:14px"><span style="font-family:arial\,helvetica\,sans-serif"><span style="background-color:transparent">The International School of Boston (ISB) is an independent\, non-profit\, PK -12 French-English bilingual and international school located in Cambridge\, Massachusetts\, in one of the most vibrant metropolitan areas in the United States. As a world-class\, accredited academic institution\, ISB places the development of the bilingual brain at the heart of its mission. ISB students graduate with an American high school diploma and choose between two internationally renowned diplomas\, the French or the International Baccalaureate\, giving them the opportunity to thrive at leading universities in the United States\, France\, and around the world. Offering a rich experience with rigorous programs\, ISB prepares its students for a lifetime of learning and service. Visit <strong><a href="http://www.isbos.org" style="text-decoration-line: none\;">www.isbos.org</a></strong>.</span></span></span></p>\n\n<div><span style="font-size:14px"><span style="font-family:arial\,helvetica\,sans-serif"><strong><a href="https://www.eventbrite.com/e/upper-school-information-evening-tickets-62662122094" style="font-family: adrianna\, sans-serif\;">Click here to register</a></strong>.</span></span></div>\n
LOCATION:International School of Boston 45 Matignon Road\, Cambridge\, MA 02140 617-499-1459 www.isbos.org
UID:e.2584.4588
SEQUENCE:3
DTSTAMP:20260424T112706Z
URL:https://business.cambridgechamber.org/events/details/international-school-of-boston-upper-school-information-evening-4588
END:VEVENT

END:VCALENDAR
